BEGIN:VCALENDAR
VERSION:2.0
PRODID:-//Ecotrust - ECPv6.15.15//NONSGML v1.0//EN
CALSCALE:GREGORIAN
METHOD:PUBLISH
X-WR-CALNAME:Ecotrust
X-ORIGINAL-URL:https://ecotrust.org
X-WR-CALDESC:Events for Ecotrust
REFRESH-INTERVAL;VALUE=DURATION:PT1H
X-Robots-Tag:noindex
X-PUBLISHED-TTL:PT1H
BEGIN:VTIMEZONE
TZID:America/Los_Angeles
BEGIN:DAYLIGHT
TZOFFSETFROM:-0800
TZOFFSETTO:-0700
TZNAME:PDT
DTSTART:20240310T100000
END:DAYLIGHT
BEGIN:STANDARD
TZOFFSETFROM:-0700
TZOFFSETTO:-0800
TZNAME:PST
DTSTART:20241103T090000
END:STANDARD
BEGIN:DAYLIGHT
TZOFFSETFROM:-0800
TZOFFSETTO:-0700
TZNAME:PDT
DTSTART:20250309T100000
END:DAYLIGHT
BEGIN:STANDARD
TZOFFSETFROM:-0700
TZOFFSETTO:-0800
TZNAME:PST
DTSTART:20251102T090000
END:STANDARD
BEGIN:DAYLIGHT
TZOFFSETFROM:-0800
TZOFFSETTO:-0700
TZNAME:PDT
DTSTART:20260308T100000
END:DAYLIGHT
BEGIN:STANDARD
TZOFFSETFROM:-0700
TZOFFSETTO:-0800
TZNAME:PST
DTSTART:20261101T090000
END:STANDARD
END:VTIMEZONE
BEGIN:VEVENT
DTSTART;TZID=America/Los_Angeles:20250216T133000
DTEND;TZID=America/Los_Angeles:20250216T163000
DTSTAMP:20260423T073029
CREATED:20250116T234636Z
LAST-MODIFIED:20250116T234720Z
UID:10000409-1739712600-1739723400@ecotrust.org
SUMMARY:"Dear Aloha" | A love letter to Hawaii
DESCRIPTION:Join Oregon Public Broadcasting for a screening of the documentary film “Dear Aloha” on Sunday\, February 16 at The Redd on Salmon Street in Portland. \nDoors open at 2 p.m. with programming until approximately 4 p.m. While the screening is free to the public\, tickets are required. Food\, music\, and aloha included. \nAloha is a way of life for Native Hawaiians\, who are taught from a young age to treat people with kindness and compassion. The film follows two Native Hawaiians living in the Pacific Northwest as they reflect on how Aloha sustains them amidst distance\, loss\, and longing. Meanwhile\, back in Hawaiʻi\, locals grapple with the history of colonization that has Hawaiians disappearing from their homeland. It asks the question\, how do Native Hawaiians in the diaspora keep the feeling of Aloha in their hearts\, even when they live thousands of miles away?
URL:https://ecotrust.org/event/dear-aloha-at-the-redd-on-salmon-a-love-letter-to-hawaii/
LOCATION:The Redd on Salmon Street\, 831 SE Salmon Street\, Portland\, OR\, 97214\, United States
END:VEVENT
END:VCALENDAR