BEGIN:VCALENDAR
VERSION:2.0
PRODID:-//Ecotrust - ECPv6.15.15//NONSGML v1.0//EN
CALSCALE:GREGORIAN
METHOD:PUBLISH
X-WR-CALNAME:Ecotrust
X-ORIGINAL-URL:https://ecotrust.org
X-WR-CALDESC:Events for Ecotrust
REFRESH-INTERVAL;VALUE=DURATION:PT1H
X-Robots-Tag:noindex
X-PUBLISHED-TTL:PT1H
BEGIN:VTIMEZONE
TZID:America/Los_Angeles
BEGIN:DAYLIGHT
TZOFFSETFROM:-0800
TZOFFSETTO:-0700
TZNAME:PDT
DTSTART:20240310T100000
END:DAYLIGHT
BEGIN:STANDARD
TZOFFSETFROM:-0700
TZOFFSETTO:-0800
TZNAME:PST
DTSTART:20241103T090000
END:STANDARD
BEGIN:DAYLIGHT
TZOFFSETFROM:-0800
TZOFFSETTO:-0700
TZNAME:PDT
DTSTART:20250309T100000
END:DAYLIGHT
BEGIN:STANDARD
TZOFFSETFROM:-0700
TZOFFSETTO:-0800
TZNAME:PST
DTSTART:20251102T090000
END:STANDARD
BEGIN:DAYLIGHT
TZOFFSETFROM:-0800
TZOFFSETTO:-0700
TZNAME:PDT
DTSTART:20260308T100000
END:DAYLIGHT
BEGIN:STANDARD
TZOFFSETFROM:-0700
TZOFFSETTO:-0800
TZNAME:PST
DTSTART:20261101T090000
END:STANDARD
END:VTIMEZONE
BEGIN:VEVENT
DTSTART;TZID=America/Los_Angeles:20250218T090000
DTEND;TZID=America/Los_Angeles:20250218T180000
DTSTAMP:20260423T024528
CREATED:20250108T201041Z
LAST-MODIFIED:20250108T212905Z
UID:10000407-1739869200-1739901600@ecotrust.org
SUMMARY:Oregon Blue Foods Forum: Blue Foods Symposium + Industry Seaweed Oyster Social
DESCRIPTION:Making a space for passionate food industry dreamers\, makers and doers to take action.\nThis Symposium will turn the traditional conference model on its head.  Join Winter Waters for a full day of immersive industry-focused workshops designed to drive progress and inspire collaboration around Oregon’s food system challenges and opportunities. If you’re tired of talking about ideas\, and would rather be in a room with action oriented\, fun\, and ocean oriented folks\, this is the right place for you. \nOver the course of the day\, take a deeper dive on all things related to Oregon’s wild and incredible foods from the sea\, and explore how localizing our food systems and re-imagining of use our natural resources can ignite a better future for all.  Food system champions such as Nikki Guerrero of Hot Mama Salsa\, Chef Andre Uribe\, Chef Maylin Chavez and Alanna Kieffer of Shifting Tides NW will help guide discussions and storytelling to help craft a vision for the future food systems. Enjoy intentional conversations\, updates on compelling projects and business resources\, and delicious ocean-centric food. \nSee website and sign up for more info! \n\nSymposium Workshop:\n9 AM – 4 PM An immersive\, industry-focused workshop designed to drive progress\, activate solutions\, and inspire collaboration around Oregon’s food system challenges. Registration fee includes breakfast snacks\, art and seafood demos\, tastings and lunch. Full scholarships or industry discounts available upon request. This workshop is limited to 50 attendees. \nSeaweed Oyster Social:\n4 PM – 6 PM For those who can’t make it to the Workshops\, join an informal happy hour mixer at The Redd! Enjoy networking with chefs\, food scientists\, and other seaweed and ocean-venture curious\, in this business social featuring oysters and tasty sea snacks.  This portion is open to the public; $10-20 sliding scale entry benefits the Oregon Kelp Alliance and Central Coast Food Web.  Mixer is included for workshop attendees as part of registration. \n  \nThis listing is for the Symposium\, followed by a “Seaweed Oyster Social” at The Redd on 2/18. \nAfter this kick off\, the forum will proceed with a hands-on Ocean Art! Xperience at Art Design Xchange (ADX) will delight the senses on 2/19\, then the event will culminate in an epic Seafaring Speakeasy and educational culinary showcase at Union Pine on 2/20. See website and sign up for more info!
URL:https://ecotrust.org/event/oregon-blue-foods-forum-blue-foods-symposium-industry-seaweed-oyster-social/
LOCATION:The Redd on Salmon Street\, 831 SE Salmon Street\, Portland\, OR\, 97214\, United States
END:VEVENT
END:VCALENDAR