BEGIN:VCALENDAR
VERSION:2.0
PRODID:-//Ecotrust - ECPv6.15.15//NONSGML v1.0//EN
CALSCALE:GREGORIAN
METHOD:PUBLISH
X-WR-CALNAME:Ecotrust
X-ORIGINAL-URL:https://ecotrust.org
X-WR-CALDESC:Events for Ecotrust
REFRESH-INTERVAL;VALUE=DURATION:PT1H
X-Robots-Tag:noindex
X-PUBLISHED-TTL:PT1H
BEGIN:VTIMEZONE
TZID:America/Los_Angeles
BEGIN:DAYLIGHT
TZOFFSETFROM:-0800
TZOFFSETTO:-0700
TZNAME:PDT
DTSTART:20240310T100000
END:DAYLIGHT
BEGIN:STANDARD
TZOFFSETFROM:-0700
TZOFFSETTO:-0800
TZNAME:PST
DTSTART:20241103T090000
END:STANDARD
BEGIN:DAYLIGHT
TZOFFSETFROM:-0800
TZOFFSETTO:-0700
TZNAME:PDT
DTSTART:20250309T100000
END:DAYLIGHT
BEGIN:STANDARD
TZOFFSETFROM:-0700
TZOFFSETTO:-0800
TZNAME:PST
DTSTART:20251102T090000
END:STANDARD
BEGIN:DAYLIGHT
TZOFFSETFROM:-0800
TZOFFSETTO:-0700
TZNAME:PDT
DTSTART:20260308T100000
END:DAYLIGHT
BEGIN:STANDARD
TZOFFSETFROM:-0700
TZOFFSETTO:-0800
TZNAME:PST
DTSTART:20261101T090000
END:STANDARD
END:VTIMEZONE
BEGIN:VEVENT
DTSTART;TZID=America/Los_Angeles:20250222T130000
DTEND;TZID=America/Los_Angeles:20250222T170000
DTSTAMP:20260422T204904
CREATED:20241205T174217Z
LAST-MODIFIED:20241205T174217Z
UID:10000402-1740229200-1740243600@ecotrust.org
SUMMARY:Fuyu Fest
DESCRIPTION:Fuyu Fest is the only sake festival in the Pacific Northwest\, and sets itself apart by serving as a bridge between Japanese and PNW sake lovers. This February\, join Fuyu Fest for a third year of tasting\, discovery\, education and community!
URL:https://ecotrust.org/event/fuyu-fest/
LOCATION:The Redd on Salmon Street\, 831 SE Salmon Street\, Portland\, OR\, 97214\, United States
END:VEVENT
BEGIN:VEVENT
DTSTART;TZID=America/Los_Angeles:20250222T140000
DTEND;TZID=America/Los_Angeles:20250222T170000
DTSTAMP:20260422T204904
CREATED:20240205T221711Z
LAST-MODIFIED:20250130T182824Z
UID:10000411-1740232800-1740243600@ecotrust.org
SUMMARY:Deschutes River Alliance 2025 Auction & Gathering
DESCRIPTION:This is Deschutes River Alliance’s biggest annual event! 2025 will be the second year at Ecotrust’s The Redd in SE Portland. Come together as a community\, support their work\, and score incredible silent and live auction packages. \n\nTickets are now onsite via the auction website. \nContact Peter (peter@deschutesriveralliance.org) for donations\, sponsorships\, and volunteer inquiries.
URL:https://ecotrust.org/event/deschutes-river-alliance-2024-auction-gathering/
LOCATION:The Redd on Salmon Street\, 831 SE Salmon Street\, Portland\, OR\, 97214\, United States
ORGANIZER;CN="Deschutes River Alliance":MAILTO:peter@deschutesriveralliance.org
END:VEVENT
END:VCALENDAR