BEGIN:VCALENDAR
VERSION:2.0
PRODID:-//Ecotrust - ECPv6.15.15//NONSGML v1.0//EN
CALSCALE:GREGORIAN
METHOD:PUBLISH
X-ORIGINAL-URL:https://ecotrust.org
X-WR-CALDESC:Events for Ecotrust
REFRESH-INTERVAL;VALUE=DURATION:PT1H
X-Robots-Tag:noindex
X-PUBLISHED-TTL:PT1H
BEGIN:VTIMEZONE
TZID:America/Los_Angeles
BEGIN:DAYLIGHT
TZOFFSETFROM:-0800
TZOFFSETTO:-0700
TZNAME:PDT
DTSTART:20240310T100000
END:DAYLIGHT
BEGIN:STANDARD
TZOFFSETFROM:-0700
TZOFFSETTO:-0800
TZNAME:PST
DTSTART:20241103T090000
END:STANDARD
BEGIN:DAYLIGHT
TZOFFSETFROM:-0800
TZOFFSETTO:-0700
TZNAME:PDT
DTSTART:20250309T100000
END:DAYLIGHT
BEGIN:STANDARD
TZOFFSETFROM:-0700
TZOFFSETTO:-0800
TZNAME:PST
DTSTART:20251102T090000
END:STANDARD
BEGIN:DAYLIGHT
TZOFFSETFROM:-0800
TZOFFSETTO:-0700
TZNAME:PDT
DTSTART:20260308T100000
END:DAYLIGHT
BEGIN:STANDARD
TZOFFSETFROM:-0700
TZOFFSETTO:-0800
TZNAME:PST
DTSTART:20261101T090000
END:STANDARD
END:VTIMEZONE
BEGIN:VEVENT
DTSTART;TZID=America/Los_Angeles:20250412T110000
DTEND;TZID=America/Los_Angeles:20250413T160000
DTSTAMP:20260422T160822
CREATED:20250312T194345Z
LAST-MODIFIED:20250312T194506Z
UID:10000420-1744455600-1744560000@ecotrust.org
SUMMARY:5th Anniversary Spring Pop-Up Market | Unique Inc.
DESCRIPTION:Celebrate\, support and discover PDX’s best emerging brands\, designers and artists!\n\n\n\n\n\n\n\n\n\nSHOP 75 CURATED SMALL BUSINESSES\, LOCAL DESIGNERS\, EMERGING BRANDS AND ARTISTS\nENJOY FREE PHOTO BOOTH PORTRAITS+PRINTS\n‘EGG BEDAZZLING’ DIY FUN ALL WEEKEND\nFREE DRINKS\, FOOD TRUCKS\, AND MORE!
URL:https://ecotrust.org/event/5th-anniversary-spring-pop-up-market-unique-inc/
END:VEVENT
BEGIN:VEVENT
DTSTART;TZID=America/Los_Angeles:20250413T090000
DTEND;TZID=America/Los_Angeles:20250413T103000
DTSTAMP:20260422T160822
CREATED:20250411T190204Z
LAST-MODIFIED:20250411T192346Z
UID:10000736-1744534800-1744540200@ecotrust.org
SUMMARY:Pearl Church | Service
DESCRIPTION:Join on Sunday mornings at 9:00am & 10:30am. \nMeet in the historic Ecotrust building in the Pearl District. Kids & Youth programs are offered at the 10:30am service.
URL:https://ecotrust.org/event/pearl-church-service/2025-04-13/
LOCATION:The Redd on Salmon Street\, 831 SE Salmon Street\, Portland\, OR\, 97214\, United States
ATTACH;FMTTYPE=image/jpeg:https://ecotrust.org/wp-content/uploads/2025/04/PearlChurch_Service_2025.jpg
ORGANIZER;CN="Pearl Church":MAILTO:info@pearlchurch.org
END:VEVENT
END:VCALENDAR