BEGIN:VCALENDAR
VERSION:2.0
PRODID:-//Ecotrust - ECPv6.15.15//NONSGML v1.0//EN
CALSCALE:GREGORIAN
METHOD:PUBLISH
X-WR-CALNAME:Ecotrust
X-ORIGINAL-URL:https://ecotrust.org
X-WR-CALDESC:Events for Ecotrust
REFRESH-INTERVAL;VALUE=DURATION:PT1H
X-Robots-Tag:noindex
X-PUBLISHED-TTL:PT1H
BEGIN:VTIMEZONE
TZID:America/Los_Angeles
BEGIN:DAYLIGHT
TZOFFSETFROM:-0800
TZOFFSETTO:-0700
TZNAME:PDT
DTSTART:20240310T100000
END:DAYLIGHT
BEGIN:STANDARD
TZOFFSETFROM:-0700
TZOFFSETTO:-0800
TZNAME:PST
DTSTART:20241103T090000
END:STANDARD
BEGIN:DAYLIGHT
TZOFFSETFROM:-0800
TZOFFSETTO:-0700
TZNAME:PDT
DTSTART:20250309T100000
END:DAYLIGHT
BEGIN:STANDARD
TZOFFSETFROM:-0700
TZOFFSETTO:-0800
TZNAME:PST
DTSTART:20251102T090000
END:STANDARD
BEGIN:DAYLIGHT
TZOFFSETFROM:-0800
TZOFFSETTO:-0700
TZNAME:PDT
DTSTART:20260308T100000
END:DAYLIGHT
BEGIN:STANDARD
TZOFFSETFROM:-0700
TZOFFSETTO:-0800
TZNAME:PST
DTSTART:20261101T090000
END:STANDARD
END:VTIMEZONE
BEGIN:VEVENT
DTSTART;TZID=America/Los_Angeles:20250423T110000
DTEND;TZID=America/Los_Angeles:20250423T130000
DTSTAMP:20260422T160716
CREATED:20250417T173913Z
LAST-MODIFIED:20250417T174616Z
UID:10000997-1745406000-1745413200@ecotrust.org
SUMMARY:Rise: Women stepping up and redefining leadership | 2025 Rose City Summit
DESCRIPTION:The Junior League of Portland is an organization of women whose mission is to advance women’s leadership for meaningful community impact through volunteer action\, collaboration\, and training. \nThe Rose City Summit is the Junior League of Portland’s signature leadership and professional development event with a focus on advancing leadership opportunities for all women. \n  \nKeynote Speaker\nLibra Forde is a transformative leader\, former elite athlete\, and advocate for racial and gender justice. As the Executive Director of the Women’s Foundation of Oregon\, she leverages over 25 years of experience in corporate\, \nnon-profit\, and educational leadership to drive meaningful change. She’s a trailblazer in education\, a dedicated mother and a community leader\, creating a lasting legacy. \nWomen Leaders Panel\nIn this panel women across a variety of industries and experiences will share insights and revelations on their own journey to leadership. The focus of the panel will be leading with a purpose\, making an impact at work\, at home and in the community. They will challenge participants to see how they can lead in multiple areas of their life and redefine what it means to be a leader.
URL:https://ecotrust.org/event/rise-women-stepping-up-and-redefining-leadership-2025-rose-city-summit/
LOCATION:Natural Capital Center\, 721 NW 9th Ave\, Portland
END:VEVENT
END:VCALENDAR