BEGIN:VCALENDAR
VERSION:2.0
PRODID:-//Ecotrust - ECPv6.15.15//NONSGML v1.0//EN
CALSCALE:GREGORIAN
METHOD:PUBLISH
X-ORIGINAL-URL:https://ecotrust.org
X-WR-CALDESC:Events for Ecotrust
REFRESH-INTERVAL;VALUE=DURATION:PT1H
X-Robots-Tag:noindex
X-PUBLISHED-TTL:PT1H
BEGIN:VTIMEZONE
TZID:America/Los_Angeles
BEGIN:DAYLIGHT
TZOFFSETFROM:-0800
TZOFFSETTO:-0700
TZNAME:PDT
DTSTART:20240310T100000
END:DAYLIGHT
BEGIN:STANDARD
TZOFFSETFROM:-0700
TZOFFSETTO:-0800
TZNAME:PST
DTSTART:20241103T090000
END:STANDARD
BEGIN:DAYLIGHT
TZOFFSETFROM:-0800
TZOFFSETTO:-0700
TZNAME:PDT
DTSTART:20250309T100000
END:DAYLIGHT
BEGIN:STANDARD
TZOFFSETFROM:-0700
TZOFFSETTO:-0800
TZNAME:PST
DTSTART:20251102T090000
END:STANDARD
BEGIN:DAYLIGHT
TZOFFSETFROM:-0800
TZOFFSETTO:-0700
TZNAME:PDT
DTSTART:20260308T100000
END:DAYLIGHT
BEGIN:STANDARD
TZOFFSETFROM:-0700
TZOFFSETTO:-0800
TZNAME:PST
DTSTART:20261101T090000
END:STANDARD
END:VTIMEZONE
BEGIN:VEVENT
DTSTART;TZID=America/Los_Angeles:20250601T090000
DTEND;TZID=America/Los_Angeles:20250601T103000
DTSTAMP:20260420T100052
CREATED:20250411T190204Z
LAST-MODIFIED:20250411T192346Z
UID:10000743-1748768400-1748773800@ecotrust.org
SUMMARY:Pearl Church | Service
DESCRIPTION:Join on Sunday mornings at 9:00am & 10:30am. \nMeet in the historic Ecotrust building in the Pearl District. Kids & Youth programs are offered at the 10:30am service.
URL:https://ecotrust.org/event/pearl-church-service/2025-06-01/
LOCATION:The Redd on Salmon Street\, 831 SE Salmon Street\, Portland\, OR\, 97214\, United States
ATTACH;FMTTYPE=image/jpeg:https://ecotrust.org/wp-content/uploads/2025/04/PearlChurch_Service_2025.jpg
ORGANIZER;CN="Pearl Church":MAILTO:info@pearlchurch.org
END:VEVENT
BEGIN:VEVENT
DTSTART;TZID=America/Los_Angeles:20250601T170000
DTEND;TZID=America/Los_Angeles:20250601T220000
DTSTAMP:20260420T100052
CREATED:20250505T154825Z
LAST-MODIFIED:20250505T222618Z
UID:10001052-1748797200-1748815200@ecotrust.org
SUMMARY:Asian Market | Veganizer
DESCRIPTION:Choose between VIP\, Priority\, and Pay What You Can (FREE\, $5\, $10 entry) tickets \nAfter several years of hosting Veganizer Asian heritage events as collaborative popups\, the concept has been reimagined as a vegan night market with food\, drinks\, art\, home goods\, live entertainment\, and much more! Join the celebration and foster community\, while highlighting the intersection between Asian culture and veganism\, at one of Portland’s most iconic venues. \nThis event brings over 50 small businesses who identify as Asian (Central\, East\, Southeast\, South\, West)\, Pacific Islander\, or Native Hawaiian together in one community space. A portion of market sales will benefit APANO\, one of Oregon’s longest-standing Asian grassroots advocacy organizations\, and its political\, social\, economic and cultural work. \nFollow @veganizerpdx on Instagram for updates and vendor features.
URL:https://ecotrust.org/event/asian-market-veganizer/
LOCATION:The Redd on Salmon Street\, 831 SE Salmon Street\, Portland\, OR\, 97214\, United States
ORGANIZER;CN="Veganizer":MAILTO:veganizerpdx@gmail.com
END:VEVENT
END:VCALENDAR