BEGIN:VCALENDAR
VERSION:2.0
PRODID:-//Ecotrust - ECPv6.15.15//NONSGML v1.0//EN
CALSCALE:GREGORIAN
METHOD:PUBLISH
X-WR-CALNAME:Ecotrust
X-ORIGINAL-URL:https://ecotrust.org
X-WR-CALDESC:Events for Ecotrust
REFRESH-INTERVAL;VALUE=DURATION:PT1H
X-Robots-Tag:noindex
X-PUBLISHED-TTL:PT1H
BEGIN:VTIMEZONE
TZID:America/Los_Angeles
BEGIN:DAYLIGHT
TZOFFSETFROM:-0800
TZOFFSETTO:-0700
TZNAME:PDT
DTSTART:20240310T100000
END:DAYLIGHT
BEGIN:STANDARD
TZOFFSETFROM:-0700
TZOFFSETTO:-0800
TZNAME:PST
DTSTART:20241103T090000
END:STANDARD
BEGIN:DAYLIGHT
TZOFFSETFROM:-0800
TZOFFSETTO:-0700
TZNAME:PDT
DTSTART:20250309T100000
END:DAYLIGHT
BEGIN:STANDARD
TZOFFSETFROM:-0700
TZOFFSETTO:-0800
TZNAME:PST
DTSTART:20251102T090000
END:STANDARD
BEGIN:DAYLIGHT
TZOFFSETFROM:-0800
TZOFFSETTO:-0700
TZNAME:PDT
DTSTART:20260308T100000
END:DAYLIGHT
BEGIN:STANDARD
TZOFFSETFROM:-0700
TZOFFSETTO:-0800
TZNAME:PST
DTSTART:20261101T090000
END:STANDARD
END:VTIMEZONE
BEGIN:VEVENT
DTSTART;TZID=America/Los_Angeles:20250607T100000
DTEND;TZID=America/Los_Angeles:20250607T173000
DTSTAMP:20260421T025600
CREATED:20240718T194038Z
LAST-MODIFIED:20250505T153429Z
UID:10000206-1749290400-1749317400@ecotrust.org
SUMMARY:The Bloody Mary Festival
DESCRIPTION:The Bloody Mary Festival is a celebration of the most beloved brunch cocktail. \n\n\nNow in its 12th year – the largest event of its kind – each city’s Festival brings together the best Bloody Marys made by local bars\, restaurants\, and craft mixes. Attendees taste them all before voting for the coveted People’s Choice Award. \nThe Festival is much more than Bloody Marys! Tastes from local food & beverage companies\, photo ops\, a dancing tomato\, and a panel of expert judges add to the day’s festivities. \nJoin this incredible brunch-time party and help crown “The Best Bloody Mary” in your city!    ​ \nTICKETS INCLUDE \n\n\n\n\n\nAll participating Bloody Marys \n\n\n\n\n\nFood & beverage tastes from local companies \nOne vote for The People’s Choice Award \nMeet Bloody Mary lovers from around the 🌎 \nTemp tattoos\, photos ops and more!
URL:https://ecotrust.org/event/the-bloody-mary-festival/
LOCATION:The Redd on Salmon Street\, 831 SE Salmon Street\, Portland\, OR\, 97214\, United States
END:VEVENT
BEGIN:VEVENT
DTSTART;TZID=America/Los_Angeles:20250607T113000
DTEND;TZID=America/Los_Angeles:20250607T130000
DTSTAMP:20260421T025600
CREATED:20250522T201000Z
LAST-MODIFIED:20250522T203151Z
UID:10001058-1749295800-1749301200@ecotrust.org
SUMMARY:PDX Finance Girlies: Connect & Elevate
DESCRIPTION:Get ready to connect\, learn\, and empower yourself with other finance-savvy gals in Portland at PDX Finance Girlies! \nWelcome to PDX Finance Girlies! Join for a fun and informative event focused on empowering women in the world of finance. Whether you’re a finance pro or just starting out\, this event is for you! Come network\, learn\, and be inspired by fellow finance enthusiasts. The event will be held at the Ecotrust Building\, on a stunning rooftop. Mark your calendars and don’t miss out on this fantastic opportunity to connect with other finance girlies! Light snacks and champagne provided.
URL:https://ecotrust.org/event/pdx-finance-girlies-connect-elevate/
LOCATION:Natural Capital Center\, 721 NW 9th Ave\, Portland
END:VEVENT
END:VCALENDAR