BEGIN:VCALENDAR
VERSION:2.0
PRODID:-//Ecotrust - ECPv6.15.15//NONSGML v1.0//EN
CALSCALE:GREGORIAN
METHOD:PUBLISH
X-WR-CALNAME:Ecotrust
X-ORIGINAL-URL:https://ecotrust.org
X-WR-CALDESC:Events for Ecotrust
REFRESH-INTERVAL;VALUE=DURATION:PT1H
X-Robots-Tag:noindex
X-PUBLISHED-TTL:PT1H
BEGIN:VTIMEZONE
TZID:America/Los_Angeles
BEGIN:DAYLIGHT
TZOFFSETFROM:-0800
TZOFFSETTO:-0700
TZNAME:PDT
DTSTART:20240310T100000
END:DAYLIGHT
BEGIN:STANDARD
TZOFFSETFROM:-0700
TZOFFSETTO:-0800
TZNAME:PST
DTSTART:20241103T090000
END:STANDARD
BEGIN:DAYLIGHT
TZOFFSETFROM:-0800
TZOFFSETTO:-0700
TZNAME:PDT
DTSTART:20250309T100000
END:DAYLIGHT
BEGIN:STANDARD
TZOFFSETFROM:-0700
TZOFFSETTO:-0800
TZNAME:PST
DTSTART:20251102T090000
END:STANDARD
BEGIN:DAYLIGHT
TZOFFSETFROM:-0800
TZOFFSETTO:-0700
TZNAME:PDT
DTSTART:20260308T100000
END:DAYLIGHT
BEGIN:STANDARD
TZOFFSETFROM:-0700
TZOFFSETTO:-0800
TZNAME:PST
DTSTART:20261101T090000
END:STANDARD
END:VTIMEZONE
BEGIN:VEVENT
DTSTART;TZID=America/Los_Angeles:20250611T100000
DTEND;TZID=America/Los_Angeles:20250611T110000
DTSTAMP:20260418T123130
CREATED:20250516T173913Z
LAST-MODIFIED:20250516T173913Z
UID:10001056-1749636000-1749639600@ecotrust.org
SUMMARY:Indigenous Agroforestry in the Northwest Webinar Series
DESCRIPTION:Join us for the Indigenous Agroforestry Network’s quarterly webinar series. These webinars are designed to foster connection among agroforestry practitioners and partners\, while increasing awareness of programs and services available to Tribes and Indigenous land stewards. \nThis is a virtual event.
URL:https://ecotrust.org/event/indigenous-agroforestry-in-the-northwest-webinar-series/
END:VEVENT
BEGIN:VEVENT
DTSTART;TZID=America/Los_Angeles:20250611T130000
DTEND;TZID=America/Los_Angeles:20250611T170000
DTSTAMP:20260418T123130
CREATED:20250417T220153Z
LAST-MODIFIED:20250506T213101Z
UID:10000998-1749646800-1749661200@ecotrust.org
SUMMARY:Building Community with New Market Tax Credits
DESCRIPTION:Join us for an info session and community networking event about New Market Tax Credits. \nThe New Markets Tax Credits (NMTC) program can be a powerful tool to invest in communities’ large-scale capital projects. And it can be a complicated process to undertake and understand. On June 11\, join Ecotrust\, Craft3\, and Native American Bank for an informational session designed to demystify the New Markets Tax Credit program and network with others throughout the region who are putting these dollars to work toward building community wealth and infrastructure.
URL:https://ecotrust.org/event/building-community-with-new-market-tax-credits/
LOCATION:Natural Capital Center\, 721 NW 9th Ave\, Portland
ATTACH;FMTTYPE=image/png:https://ecotrust.org/wp-content/uploads/2025/04/NMTC_social-media-1080-x-1080-px-e1746565626816.png
END:VEVENT
END:VCALENDAR