BEGIN:VCALENDAR
VERSION:2.0
PRODID:-//Ecotrust - ECPv6.15.15//NONSGML v1.0//EN
CALSCALE:GREGORIAN
METHOD:PUBLISH
X-WR-CALNAME:Ecotrust
X-ORIGINAL-URL:https://ecotrust.org
X-WR-CALDESC:Events for Ecotrust
REFRESH-INTERVAL;VALUE=DURATION:PT1H
X-Robots-Tag:noindex
X-PUBLISHED-TTL:PT1H
BEGIN:VTIMEZONE
TZID:America/Los_Angeles
BEGIN:DAYLIGHT
TZOFFSETFROM:-0800
TZOFFSETTO:-0700
TZNAME:PDT
DTSTART:20240310T100000
END:DAYLIGHT
BEGIN:STANDARD
TZOFFSETFROM:-0700
TZOFFSETTO:-0800
TZNAME:PST
DTSTART:20241103T090000
END:STANDARD
BEGIN:DAYLIGHT
TZOFFSETFROM:-0800
TZOFFSETTO:-0700
TZNAME:PDT
DTSTART:20250309T100000
END:DAYLIGHT
BEGIN:STANDARD
TZOFFSETFROM:-0700
TZOFFSETTO:-0800
TZNAME:PST
DTSTART:20251102T090000
END:STANDARD
BEGIN:DAYLIGHT
TZOFFSETFROM:-0800
TZOFFSETTO:-0700
TZNAME:PDT
DTSTART:20260308T100000
END:DAYLIGHT
BEGIN:STANDARD
TZOFFSETFROM:-0700
TZOFFSETTO:-0800
TZNAME:PST
DTSTART:20261101T090000
END:STANDARD
END:VTIMEZONE
BEGIN:VEVENT
DTSTART;TZID=America/Los_Angeles:20250614T130000
DTEND;TZID=America/Los_Angeles:20250614T170000
DTSTAMP:20260420T100101
CREATED:20250507T152457Z
LAST-MODIFIED:20250507T153134Z
UID:10001053-1749906000-1749920400@ecotrust.org
SUMMARY:Wasabi Fest
DESCRIPTION:Get ready to spice up your life at WasabiFest PDX – a celebration of all things wasabi with food\, drinks\, and fun activities! \nWelcome to WasabiFest PDX! It’s an eclectic lineup of Portland chefs and artists to ignite your senses. The day will be filled with samples from some of Oregon’s most creative minds in the food industry\, saké tastings from the US and Japan\, demonstrations on ways to use wasabi\, workshops and activities. \nPredominantly grown in Japan\, Korea and the Russian Far East\, wasabi is also cultivated on the Oregon coast.
URL:https://ecotrust.org/event/wasabi-fest/
LOCATION:The Redd on Salmon Street\, 831 SE Salmon Street\, Portland\, OR\, 97214\, United States
ORGANIZER;CN="WasabiFest":MAILTO:hello@wasabifestpdx.com
END:VEVENT
END:VCALENDAR