BEGIN:VCALENDAR
VERSION:2.0
PRODID:-//Ecotrust - ECPv6.15.15//NONSGML v1.0//EN
CALSCALE:GREGORIAN
METHOD:PUBLISH
X-ORIGINAL-URL:https://ecotrust.org
X-WR-CALDESC:Events for Ecotrust
REFRESH-INTERVAL;VALUE=DURATION:PT1H
X-Robots-Tag:noindex
X-PUBLISHED-TTL:PT1H
BEGIN:VTIMEZONE
TZID:America/Los_Angeles
BEGIN:DAYLIGHT
TZOFFSETFROM:-0800
TZOFFSETTO:-0700
TZNAME:PDT
DTSTART:20240310T100000
END:DAYLIGHT
BEGIN:STANDARD
TZOFFSETFROM:-0700
TZOFFSETTO:-0800
TZNAME:PST
DTSTART:20241103T090000
END:STANDARD
BEGIN:DAYLIGHT
TZOFFSETFROM:-0800
TZOFFSETTO:-0700
TZNAME:PDT
DTSTART:20250309T100000
END:DAYLIGHT
BEGIN:STANDARD
TZOFFSETFROM:-0700
TZOFFSETTO:-0800
TZNAME:PST
DTSTART:20251102T090000
END:STANDARD
BEGIN:DAYLIGHT
TZOFFSETFROM:-0800
TZOFFSETTO:-0700
TZNAME:PDT
DTSTART:20260308T100000
END:DAYLIGHT
BEGIN:STANDARD
TZOFFSETFROM:-0700
TZOFFSETTO:-0800
TZNAME:PST
DTSTART:20261101T090000
END:STANDARD
END:VTIMEZONE
BEGIN:VEVENT
DTSTART;TZID=America/Los_Angeles:20250708T170000
DTEND;TZID=America/Los_Angeles:20250708T200000
DTSTAMP:20260420T094048
CREATED:20250522T204535Z
LAST-MODIFIED:20250522T204722Z
UID:10001059-1751994000-1752004800@ecotrust.org
SUMMARY:Portland Startup Community Cookout | PIE + Portland Startup Community
DESCRIPTION:A lowkey networking event for the Portland startup community. But this time\, it’s a cookout. \nNo programming. No speeches. Just people meeting people in the community. And this time\, there will be amazing Portland food. \nPlease stay tuned! More details as they become available.
URL:https://ecotrust.org/event/portland-startup-community-cookout-pie-portland-startup-community/
LOCATION:The Redd on Salmon Street\, 831 SE Salmon Street\, Portland\, OR\, 97214\, United States
ATTACH;FMTTYPE=image/jpeg:https://ecotrust.org/wp-content/uploads/2025/05/PIE_Startup_Community_Cookout_Event.jpg
END:VEVENT
END:VCALENDAR