BEGIN:VCALENDAR
VERSION:2.0
PRODID:-//Ecotrust - ECPv6.15.15//NONSGML v1.0//EN
CALSCALE:GREGORIAN
METHOD:PUBLISH
X-ORIGINAL-URL:https://ecotrust.org
X-WR-CALDESC:Events for Ecotrust
REFRESH-INTERVAL;VALUE=DURATION:PT1H
X-Robots-Tag:noindex
X-PUBLISHED-TTL:PT1H
BEGIN:VTIMEZONE
TZID:America/Los_Angeles
BEGIN:DAYLIGHT
TZOFFSETFROM:-0800
TZOFFSETTO:-0700
TZNAME:PDT
DTSTART:20240310T100000
END:DAYLIGHT
BEGIN:STANDARD
TZOFFSETFROM:-0700
TZOFFSETTO:-0800
TZNAME:PST
DTSTART:20241103T090000
END:STANDARD
BEGIN:DAYLIGHT
TZOFFSETFROM:-0800
TZOFFSETTO:-0700
TZNAME:PDT
DTSTART:20250309T100000
END:DAYLIGHT
BEGIN:STANDARD
TZOFFSETFROM:-0700
TZOFFSETTO:-0800
TZNAME:PST
DTSTART:20251102T090000
END:STANDARD
BEGIN:DAYLIGHT
TZOFFSETFROM:-0800
TZOFFSETTO:-0700
TZNAME:PDT
DTSTART:20260308T100000
END:DAYLIGHT
BEGIN:STANDARD
TZOFFSETFROM:-0700
TZOFFSETTO:-0800
TZNAME:PST
DTSTART:20261101T090000
END:STANDARD
END:VTIMEZONE
BEGIN:VEVENT
DTSTART;TZID=America/Los_Angeles:20250816T080000
DTEND;TZID=America/Los_Angeles:20250816T170000
DTSTAMP:20260420T092329
CREATED:20250713T075722Z
LAST-MODIFIED:20250713T075722Z
UID:10001063-1755331200-1755363600@ecotrust.org
SUMMARY:Brews for New Avenues
DESCRIPTION:The Largest Rare Beer Auction in the World Raising Over $2.1 Million Since 2012 to End Youth Homelessness\nLooking forward to August 16th\, which will be our last large scale event\, we’ll be back at The Redd East Event Space at 831 SE Salmon Street for one day with Early Entry VIP and General Admission sessions. \nThe Early Entry VIP session will run from 12:30-3:30 PM. Admission includes commemorative glassware\, 15 drink tokens for draft and bottle pours from some of our favorite breweries around the world\, complimentary oysters\, access to bid on dozens of rare beer auction packages\, a 14th Anniversary Brews for New Avenues T-Shirt\, and access to the General Admission session immediately following. Tickets are $150 each. \nThe General Admission session will run from 3:30-7:30 PM. Admission includes commemorative glassware\, 6 drink tokens\, access to the wall of beer\, the live auction at 5 PM\, food carts\, and live music. Tickets are $30 each.
URL:https://ecotrust.org/event/brews-for-new-avenues-2/
LOCATION:The Redd on Salmon Street\, 831 SE Salmon Street\, Portland\, OR\, 97214\, United States
END:VEVENT
END:VCALENDAR