BEGIN:VCALENDAR
VERSION:2.0
PRODID:-//Ecotrust - ECPv6.15.15//NONSGML v1.0//EN
CALSCALE:GREGORIAN
METHOD:PUBLISH
X-ORIGINAL-URL:https://ecotrust.org
X-WR-CALDESC:Events for Ecotrust
REFRESH-INTERVAL;VALUE=DURATION:PT1H
X-Robots-Tag:noindex
X-PUBLISHED-TTL:PT1H
BEGIN:VTIMEZONE
TZID:America/Los_Angeles
BEGIN:DAYLIGHT
TZOFFSETFROM:-0800
TZOFFSETTO:-0700
TZNAME:PDT
DTSTART:20240310T100000
END:DAYLIGHT
BEGIN:STANDARD
TZOFFSETFROM:-0700
TZOFFSETTO:-0800
TZNAME:PST
DTSTART:20241103T090000
END:STANDARD
BEGIN:DAYLIGHT
TZOFFSETFROM:-0800
TZOFFSETTO:-0700
TZNAME:PDT
DTSTART:20250309T100000
END:DAYLIGHT
BEGIN:STANDARD
TZOFFSETFROM:-0700
TZOFFSETTO:-0800
TZNAME:PST
DTSTART:20251102T090000
END:STANDARD
BEGIN:DAYLIGHT
TZOFFSETFROM:-0800
TZOFFSETTO:-0700
TZNAME:PDT
DTSTART:20260308T100000
END:DAYLIGHT
BEGIN:STANDARD
TZOFFSETFROM:-0700
TZOFFSETTO:-0800
TZNAME:PST
DTSTART:20261101T090000
END:STANDARD
END:VTIMEZONE
BEGIN:VEVENT
DTSTART;TZID=America/Los_Angeles:20250828T160000
DTEND;TZID=America/Los_Angeles:20250828T190000
DTSTAMP:20260420T092332
CREATED:20250807T184558Z
LAST-MODIFIED:20250819T191219Z
UID:10001069-1756396800-1756407600@ecotrust.org
SUMMARY:Strategic Planning for a Viable Farm Business
DESCRIPTION:Join us on August 28th\, at Black Food Sovereignty Coalition HQ for an evening workshop focused on the foundational planning elements of starting a farm business with shiny of Scrapberry Farm. \nThis free event is an opportunity to learn from a local farmer how to craft a mission\, vision\, and values statement for your business plan. \nAt the end of this workshop\, an engaged participant will be able to:  \n\nOutline a farm planning process\, identifying the work toward concrete business goals.\nIdentify the vision and values for their farm business.\nWrite a draft mission statement for their farm business.\n\nThe workshop will be followed by an opportunity to ask questions and connect directly over dinner. \nRegister today! \n  \nParking \nStreet parking \n  \nFood \nWe’ll share a meal\, with omnivore\, gluten-free\, and plant-based options provided. \n  \nWho We’re Gathering With\nThis gathering is intended for the farmers\, growers\, producers\, and land stewards who are building a farm business\, growing food\, and caring for land in the Portland foodshed.
URL:https://ecotrust.org/event/strategic-planning-for-a-viable-farm-business/
LOCATION:Black Food Sovereignty Coalition\, 1526 SE Elliott Ave\, Portland\, OR\, 97214\, United States
ATTACH;FMTTYPE=image/png:https://ecotrust.org/wp-content/uploads/2025/08/Strategic-Planning-for-a-Viable-Farm-Business-1.png
END:VEVENT
END:VCALENDAR