BEGIN:VCALENDAR
VERSION:2.0
PRODID:-//Ecotrust - ECPv6.15.15//NONSGML v1.0//EN
CALSCALE:GREGORIAN
METHOD:PUBLISH
X-WR-CALNAME:Ecotrust
X-ORIGINAL-URL:https://ecotrust.org
X-WR-CALDESC:Events for Ecotrust
REFRESH-INTERVAL;VALUE=DURATION:PT1H
X-Robots-Tag:noindex
X-PUBLISHED-TTL:PT1H
BEGIN:VTIMEZONE
TZID:America/Los_Angeles
BEGIN:DAYLIGHT
TZOFFSETFROM:-0800
TZOFFSETTO:-0700
TZNAME:PDT
DTSTART:20240310T100000
END:DAYLIGHT
BEGIN:STANDARD
TZOFFSETFROM:-0700
TZOFFSETTO:-0800
TZNAME:PST
DTSTART:20241103T090000
END:STANDARD
BEGIN:DAYLIGHT
TZOFFSETFROM:-0800
TZOFFSETTO:-0700
TZNAME:PDT
DTSTART:20250309T100000
END:DAYLIGHT
BEGIN:STANDARD
TZOFFSETFROM:-0700
TZOFFSETTO:-0800
TZNAME:PST
DTSTART:20251102T090000
END:STANDARD
BEGIN:DAYLIGHT
TZOFFSETFROM:-0800
TZOFFSETTO:-0700
TZNAME:PDT
DTSTART:20260308T100000
END:DAYLIGHT
BEGIN:STANDARD
TZOFFSETFROM:-0700
TZOFFSETTO:-0800
TZNAME:PST
DTSTART:20261101T090000
END:STANDARD
END:VTIMEZONE
BEGIN:VEVENT
DTSTART;TZID=America/Los_Angeles:20250919T100000
DTEND;TZID=America/Los_Angeles:20250919T170000
DTSTAMP:20260420T090800
CREATED:20240926T161156Z
LAST-MODIFIED:20250713T221740Z
UID:10000218-1758276000-1758301200@ecotrust.org
SUMMARY:Built Festival 2025
DESCRIPTION:The Built Festival isn’t just an event – it’s where Oregon’s consumer products community comes together to learn\, grow\, and celebrate the entrepreneurial spirit that makes our state special. \nWhat Makes Built Festival Special:  \n\n\nFireside Conversations – Intimate discussions with industry leaders tackling the topics that matter most to our founder community \n\n\n\n\n\nProduct Showcase – Our accelerator alumni showing off (and selling!) their latest innovations \n\n\n\n\nCommunity Building – Bringing together Oregon’s brightest minds and boldest innovators \n\n\n\n\nNetworking Magic – Creating those “only-at-Built” moments where partnerships are born
URL:https://ecotrust.org/event/built-festival-2024/
LOCATION:The Redd on Salmon Street\, 831 SE Salmon Street\, Portland\, OR\, 97214\, United States
END:VEVENT
END:VCALENDAR