BEGIN:VCALENDAR
VERSION:2.0
PRODID:-//Ecotrust - ECPv6.15.15//NONSGML v1.0//EN
CALSCALE:GREGORIAN
METHOD:PUBLISH
X-WR-CALNAME:Ecotrust
X-ORIGINAL-URL:https://ecotrust.org
X-WR-CALDESC:Events for Ecotrust
REFRESH-INTERVAL;VALUE=DURATION:PT1H
X-Robots-Tag:noindex
X-PUBLISHED-TTL:PT1H
BEGIN:VTIMEZONE
TZID:America/Los_Angeles
BEGIN:DAYLIGHT
TZOFFSETFROM:-0800
TZOFFSETTO:-0700
TZNAME:PDT
DTSTART:20240310T100000
END:DAYLIGHT
BEGIN:STANDARD
TZOFFSETFROM:-0700
TZOFFSETTO:-0800
TZNAME:PST
DTSTART:20241103T090000
END:STANDARD
BEGIN:DAYLIGHT
TZOFFSETFROM:-0800
TZOFFSETTO:-0700
TZNAME:PDT
DTSTART:20250309T100000
END:DAYLIGHT
BEGIN:STANDARD
TZOFFSETFROM:-0700
TZOFFSETTO:-0800
TZNAME:PST
DTSTART:20251102T090000
END:STANDARD
BEGIN:DAYLIGHT
TZOFFSETFROM:-0800
TZOFFSETTO:-0700
TZNAME:PDT
DTSTART:20260308T100000
END:DAYLIGHT
BEGIN:STANDARD
TZOFFSETFROM:-0700
TZOFFSETTO:-0800
TZNAME:PST
DTSTART:20261101T090000
END:STANDARD
END:VTIMEZONE
BEGIN:VEVENT
DTSTART;TZID=America/Los_Angeles:20251012T090000
DTEND;TZID=America/Los_Angeles:20251012T103000
DTSTAMP:20260418T011857
CREATED:20250411T190204Z
LAST-MODIFIED:20250411T192346Z
UID:10000762-1760259600-1760265000@ecotrust.org
SUMMARY:Pearl Church | Service
DESCRIPTION:Join on Sunday mornings at 9:00am & 10:30am. \nMeet in the historic Ecotrust building in the Pearl District. Kids & Youth programs are offered at the 10:30am service.
URL:https://ecotrust.org/event/pearl-church-service/2025-10-12/
LOCATION:The Redd on Salmon Street\, 831 SE Salmon Street\, Portland\, OR\, 97214\, United States
ATTACH;FMTTYPE=image/jpeg:https://ecotrust.org/wp-content/uploads/2025/04/PearlChurch_Service_2025.jpg
ORGANIZER;CN="Pearl Church":MAILTO:info@pearlchurch.org
END:VEVENT
BEGIN:VEVENT
DTSTART;TZID=America/Los_Angeles:20251012T140000
DTEND;TZID=America/Los_Angeles:20251012T180000
DTSTAMP:20260418T011857
CREATED:20250930T222508Z
LAST-MODIFIED:20250930T222508Z
UID:10001084-1760277600-1760292000@ecotrust.org
SUMMARY:Roux: Secret Sauce Panel
DESCRIPTION:Learn from some of the best Portland CPG founders about what it takes to go from startup to shelf! This discussion centers around the challenges and opportunities of scaling a small product business in a values-driven\, founder-led\, Portland-rooted way. Panelists include Junea Rocha\, Brazi Bites\, Christy Goldsby\, Honey Mama’s. Nikki Guerrero\, Hot Mama Salsa\, Lee Hedgmon\, The Barreled Bee and moderated by Hannah Kullberg\, PNW Packaged Food & Bev Google Group. \nYour ticket includes: \n\n60min Panel Discussion with Q&A\nHappy Hour food and drinks\n100% of your ticket purchase to nonprofit\, Xcelerate Women
URL:https://ecotrust.org/event/roux-secret-sauce-panel/
LOCATION:The Redd on Salmon Street\, 831 SE Salmon Street\, Portland\, OR\, 97214\, United States
END:VEVENT
END:VCALENDAR