BEGIN:VCALENDAR
VERSION:2.0
PRODID:-//Ecotrust - ECPv6.15.15//NONSGML v1.0//EN
CALSCALE:GREGORIAN
METHOD:PUBLISH
X-ORIGINAL-URL:https://ecotrust.org
X-WR-CALDESC:Events for Ecotrust
REFRESH-INTERVAL;VALUE=DURATION:PT1H
X-Robots-Tag:noindex
X-PUBLISHED-TTL:PT1H
BEGIN:VTIMEZONE
TZID:America/Los_Angeles
BEGIN:DAYLIGHT
TZOFFSETFROM:-0800
TZOFFSETTO:-0700
TZNAME:PDT
DTSTART:20250309T100000
END:DAYLIGHT
BEGIN:STANDARD
TZOFFSETFROM:-0700
TZOFFSETTO:-0800
TZNAME:PST
DTSTART:20251102T090000
END:STANDARD
BEGIN:DAYLIGHT
TZOFFSETFROM:-0800
TZOFFSETTO:-0700
TZNAME:PDT
DTSTART:20260308T100000
END:DAYLIGHT
BEGIN:STANDARD
TZOFFSETFROM:-0700
TZOFFSETTO:-0800
TZNAME:PST
DTSTART:20261101T090000
END:STANDARD
BEGIN:DAYLIGHT
TZOFFSETFROM:-0800
TZOFFSETTO:-0700
TZNAME:PDT
DTSTART:20270314T100000
END:DAYLIGHT
BEGIN:STANDARD
TZOFFSETFROM:-0700
TZOFFSETTO:-0800
TZNAME:PST
DTSTART:20271107T090000
END:STANDARD
END:VTIMEZONE
BEGIN:VEVENT
DTSTART;TZID=America/Los_Angeles:20260318T080000
DTEND;TZID=America/Los_Angeles:20260318T163000
DTSTAMP:20260419T223009
CREATED:20260211T231505Z
LAST-MODIFIED:20260211T231505Z
UID:10001109-1773820800-1773851400@ecotrust.org
SUMMARY:Reimagine the River: Aligning Efforts for a Vibrant Lower Willamette River
DESCRIPTION:1803 Fund\, Ecotrust\, and Willamette Falls Trust are hosting the inaugural Reimagine the River\, bringing\ntogether organizations who value a healthy river system for a day of listening\, learning\, and connecting.\nReimagine the River is providing a platform to raise awareness\, enhance understanding\, and identify opportunities\nfor collaboration and partnership between the people and organizations working along the Willamette.
URL:https://ecotrust.org/event/reimagine-the-river-aligning-efforts-for-a-vibrant-lower-willamette-river/
LOCATION:The Redd on Salmon Street\, 831 SE Salmon Street\, Portland\, OR\, 97214\, United States
ATTACH;FMTTYPE=image/png:https://ecotrust.org/wp-content/uploads/2026/02/Screenshot-2026-02-11-at-12.44.39-PM-e1770842729707.png
END:VEVENT
BEGIN:VEVENT
DTSTART;TZID=America/Los_Angeles:20260318T110000
DTEND;TZID=America/Los_Angeles:20260318T120000
DTSTAMP:20260419T223009
CREATED:20260227T191147Z
LAST-MODIFIED:20260309T171934Z
UID:10001118-1773831600-1773835200@ecotrust.org
SUMMARY:Indigenous Agroforestry Network Quarterly Webinar: Cultural Fire
DESCRIPTION:Tune in learn more about cultural fire! You’ll hear from tribal practitioners Dr. Frank Lake\, Ryan Reed\, and Monique Wynecoop about how Tribes are using cultural and prescribed fire as vital land management tools in Oregon and Washington. \nThey’ll also address opportunities for growth\, challenges that still need to be solved\, and how other governments\, agencies\, and private landowners can respectively partner with Tribes to support Indigenous-led fire stewardship. \nIndigenous Agroforestry Network’s quarterly webinars are designed to foster connection among agroforestry practitioners\, strengthen relationships\, and increase awareness of programs and services available to Tribes and Indigenous land stewards.
URL:https://ecotrust.org/event/indigenous-agroforestry-network-quarterly-webinar-cultural-fire/
LOCATION:Online
ATTACH;FMTTYPE=image/png:https://ecotrust.org/wp-content/uploads/2026/02/Copy-of-QUARTERLY-WEBINAR-SERIES-7-e1772219497800.png
END:VEVENT
END:VCALENDAR