BEGIN:VCALENDAR
VERSION:2.0
PRODID:-//Ecotrust - ECPv6.15.15//NONSGML v1.0//EN
CALSCALE:GREGORIAN
METHOD:PUBLISH
X-ORIGINAL-URL:https://ecotrust.org
X-WR-CALDESC:Events for Ecotrust
REFRESH-INTERVAL;VALUE=DURATION:PT1H
X-Robots-Tag:noindex
X-PUBLISHED-TTL:PT1H
BEGIN:VTIMEZONE
TZID:America/Los_Angeles
BEGIN:DAYLIGHT
TZOFFSETFROM:-0800
TZOFFSETTO:-0700
TZNAME:PDT
DTSTART:20250309T100000
END:DAYLIGHT
BEGIN:STANDARD
TZOFFSETFROM:-0700
TZOFFSETTO:-0800
TZNAME:PST
DTSTART:20251102T090000
END:STANDARD
BEGIN:DAYLIGHT
TZOFFSETFROM:-0800
TZOFFSETTO:-0700
TZNAME:PDT
DTSTART:20260308T100000
END:DAYLIGHT
BEGIN:STANDARD
TZOFFSETFROM:-0700
TZOFFSETTO:-0800
TZNAME:PST
DTSTART:20261101T090000
END:STANDARD
BEGIN:DAYLIGHT
TZOFFSETFROM:-0800
TZOFFSETTO:-0700
TZNAME:PDT
DTSTART:20270314T100000
END:DAYLIGHT
BEGIN:STANDARD
TZOFFSETFROM:-0700
TZOFFSETTO:-0800
TZNAME:PST
DTSTART:20271107T090000
END:STANDARD
END:VTIMEZONE
BEGIN:VEVENT
DTSTART;TZID=America/Los_Angeles:20260422T090000
DTEND;TZID=America/Los_Angeles:20260422T120000
DTSTAMP:20260419T212813
CREATED:20260320T180612Z
LAST-MODIFIED:20260323T221723Z
UID:10001135-1776848400-1776859200@ecotrust.org
SUMMARY:Volunteer with Ecotrust at Oaks Bottom Wildlife Refuge
DESCRIPTION:Enjoy a morning of volunteering with Ecotrust and Portland Parks and Recreation! We will be shearing the grass growing around newly established plants and spreading mulch around them. This will help lessen the competition around these plant babies and keep them moist during the summer. These plants will provide habitat to much of the local wildlife that call Oaks Bottom Wildlife Refuge home. \nThe plant tending is taking place in a mostly flat area with tall grasses. There will be a porta potty close to the work site and public restrooms at Sellwood Park near the parking lot. \nWe suggest wearing long sturdy pants\, weather appropriate layers\, and closed-toe\, sturdy shoes. We will provide tools\, gloves\, light snacks and hot drinks.
URL:https://ecotrust.org/event/volunteer-with-ecotrust-at-oaks-bottom-wildlife-refuge/
LOCATION:Oaks Bottom Wildlife Refuge
ATTACH;FMTTYPE=image/jpeg:https://ecotrust.org/wp-content/uploads/2025/03/Ecotrust_Volunteer_Thimbleberry.jpg
END:VEVENT
END:VCALENDAR