BEGIN:VCALENDAR
VERSION:2.0
PRODID:-//Ecotrust - ECPv6.15.15//NONSGML v1.0//EN
CALSCALE:GREGORIAN
METHOD:PUBLISH
X-WR-CALNAME:Ecotrust
X-ORIGINAL-URL:https://ecotrust.org
X-WR-CALDESC:Events for Ecotrust
REFRESH-INTERVAL;VALUE=DURATION:PT1H
X-Robots-Tag:noindex
X-PUBLISHED-TTL:PT1H
BEGIN:VTIMEZONE
TZID:America/Los_Angeles
BEGIN:DAYLIGHT
TZOFFSETFROM:-0800
TZOFFSETTO:-0700
TZNAME:PDT
DTSTART:20250309T100000
END:DAYLIGHT
BEGIN:STANDARD
TZOFFSETFROM:-0700
TZOFFSETTO:-0800
TZNAME:PST
DTSTART:20251102T090000
END:STANDARD
BEGIN:DAYLIGHT
TZOFFSETFROM:-0800
TZOFFSETTO:-0700
TZNAME:PDT
DTSTART:20260308T100000
END:DAYLIGHT
BEGIN:STANDARD
TZOFFSETFROM:-0700
TZOFFSETTO:-0800
TZNAME:PST
DTSTART:20261101T090000
END:STANDARD
BEGIN:DAYLIGHT
TZOFFSETFROM:-0800
TZOFFSETTO:-0700
TZNAME:PDT
DTSTART:20270314T100000
END:DAYLIGHT
BEGIN:STANDARD
TZOFFSETFROM:-0700
TZOFFSETTO:-0800
TZNAME:PST
DTSTART:20271107T090000
END:STANDARD
END:VTIMEZONE
BEGIN:VEVENT
DTSTART;TZID=America/Los_Angeles:20260424T100000
DTEND;TZID=America/Los_Angeles:20260424T113000
DTSTAMP:20260418T054221
CREATED:20260403T173746Z
LAST-MODIFIED:20260403T173746Z
UID:10001141-1777024800-1777030200@ecotrust.org
SUMMARY:Oregon Mariculture Network Meeting - April 2026
DESCRIPTION:The Oregon Mariculture Network is a community network working to support and enhance sustainable mariculture in Oregon. \nNetwork meetings provide opportunities for knowledge sharing\, connections among mariculture partners across the coast\, and collaborative work on Network defined priorities. \nAs a grower\, Tribal representative\, scientist\, agency employee\, chef\, or other partner interested in Oregon’s mariculture sector\, we invite you to join us on Friday April 24\, 2026 from 10-11:30am PT. \nThis quarterly meeting will focus on mariculture policy in Oregon. Agenda topics for the meeting include:\n– Mariculture permitting and regulatory overview\n– Presentation from the National Sea Grant Law Center\n– Network discussion on regulatory needs\n– Round robin updates
URL:https://ecotrust.org/event/oregon-mariculture-network-meeting-april-2026/
ATTACH;FMTTYPE=image/png:https://ecotrust.org/wp-content/uploads/2026/04/image-e1775234654358.png
END:VEVENT
BEGIN:VEVENT
DTSTART;TZID=America/Los_Angeles:20260424T143000
DTEND;TZID=America/Los_Angeles:20260424T193000
DTSTAMP:20260418T054221
CREATED:20260311T204958Z
LAST-MODIFIED:20260311T204958Z
UID:10001124-1777041000-1777059000@ecotrust.org
SUMMARY:Grassroots to the Grid: Documentary Premiere
DESCRIPTION:See how grassroots efforts challenge systems\, shape policy\, and build lasting change. \nLocal nonprofit Community Energy Project premieres Grassroots to the Grid\, a documentary spotlighting the neighbors and advocates driving clean energy and climate action across the city. See how grassroots efforts challenge systems\, shape policy\, and build lasting change. \nWe believe cost should never be a barrier to community and climate action. For this event\, we’re offering sliding-scale tickets to help ensure everyone can attend while sustaining CEP’s work. Choose the option that feels right for you. \nEvent schedule:\n2:30pm – Community Resource Fair: Meet our partners\, local businesses\, and enjoy delicious dishes from a variety of food truck vendors.\n5:30pm – Documentary screening begins\n6:15pm – Panel Discussion\n6:45pm – Audience Q&A\n7:30pm – Event closes\nPlease note: Ticket sales end at 4pm on April 24th. Tickets can still be purchased at the door.
URL:https://ecotrust.org/event/grassroots-to-the-grid-documentary-premiere/
LOCATION:The Redd on Salmon Street\, 831 SE Salmon Street\, Portland\, OR\, 97214\, United States
ATTACH;FMTTYPE=image/png:https://ecotrust.org/wp-content/uploads/2026/03/Screenshot-2026-03-11-at-11.03.52-AM-e1773252858632.png
ORGANIZER;CN="Community Energy Project":MAILTO:hello@communityenergyproject.org
END:VEVENT
END:VCALENDAR