BEGIN:VCALENDAR
VERSION:2.0
PRODID:-//Ecotrust - ECPv6.15.15//NONSGML v1.0//EN
CALSCALE:GREGORIAN
METHOD:PUBLISH
X-WR-CALNAME:Ecotrust
X-ORIGINAL-URL:https://ecotrust.org
X-WR-CALDESC:Events for Ecotrust
REFRESH-INTERVAL;VALUE=DURATION:PT1H
X-Robots-Tag:noindex
X-PUBLISHED-TTL:PT1H
BEGIN:VTIMEZONE
TZID:America/Los_Angeles
BEGIN:DAYLIGHT
TZOFFSETFROM:-0800
TZOFFSETTO:-0700
TZNAME:PDT
DTSTART:20230312T100000
END:DAYLIGHT
BEGIN:STANDARD
TZOFFSETFROM:-0700
TZOFFSETTO:-0800
TZNAME:PST
DTSTART:20231105T090000
END:STANDARD
BEGIN:DAYLIGHT
TZOFFSETFROM:-0800
TZOFFSETTO:-0700
TZNAME:PDT
DTSTART:20240310T100000
END:DAYLIGHT
BEGIN:STANDARD
TZOFFSETFROM:-0700
TZOFFSETTO:-0800
TZNAME:PST
DTSTART:20241103T090000
END:STANDARD
BEGIN:DAYLIGHT
TZOFFSETFROM:-0800
TZOFFSETTO:-0700
TZNAME:PDT
DTSTART:20250309T100000
END:DAYLIGHT
BEGIN:STANDARD
TZOFFSETFROM:-0700
TZOFFSETTO:-0800
TZNAME:PST
DTSTART:20251102T090000
END:STANDARD
END:VTIMEZONE
BEGIN:VEVENT
DTSTART;TZID=America/Los_Angeles:20241215T130000
DTEND;TZID=America/Los_Angeles:20241215T180000
DTSTAMP:20260423T045823
CREATED:20241127T202756Z
LAST-MODIFIED:20241212T194856Z
UID:10000401-1734267600-1734285600@ecotrust.org
SUMMARY:Market of the Beast Winter '24
DESCRIPTION:A dark market for the occult\, oddities\, & curiosities.
URL:https://ecotrust.org/event/market-of-the-beast-winter-24/
LOCATION:The Redd on Salmon Street\, 831 SE Salmon Street\, Portland\, OR\, 97214\, United States
END:VEVENT
BEGIN:VEVENT
DTSTART;TZID=America/Los_Angeles:20241208T150000
DTEND;TZID=America/Los_Angeles:20241208T180000
DTSTAMP:20260423T045823
CREATED:20241203T175120Z
LAST-MODIFIED:20241203T175120Z
UID:10000400-1733670000-1733680800@ecotrust.org
SUMMARY:Culinary Breeding Network | Sagra del Radicchio
DESCRIPTION:Discover why “Bitter is Better” at the fourth SAGRA del RADICCHIO! This event is not just about celebrating Italian chicories; it’s a journey into the world of underdog crops. From winter radishes to pomodori d’inverno\, from dry-farmed winter squash\, beans and corn to buckwheat and beyond\, join a culinary and cultural exploration like no other. \nCome taste\, learn\, and experience the diversity of locally grown winter vegetables and grains that often go unappreciated. Farmers and chefs from the PNW and afar will share dishes\, drinks\, and stories at over 40 tables. Don’t miss out on this opportunity to celebrate the unsung heroes of the culinary world!
URL:https://ecotrust.org/event/sagra-del-radicchio/
LOCATION:The Redd on Salmon Street\, 831 SE Salmon Street\, Portland\, OR\, 97214\, United States
END:VEVENT
BEGIN:VEVENT
DTSTART;TZID=America/Los_Angeles:20241124T110000
DTEND;TZID=America/Los_Angeles:20241124T160000
DTSTAMP:20260423T045823
CREATED:20241016T170542Z
LAST-MODIFIED:20241016T171643Z
UID:10000232-1732446000-1732464000@ecotrust.org
SUMMARY:PDX Flea Holiday Market
DESCRIPTION:A very special Holiday EVENT!\nHOURS: 11AM-4pm\nSATURDAY & SUNDAY\n11/23 – 11/24\n“SOME OF PORTLAND\, OREGON’S BEST SHOPPING FOR VINTAGE CLOTHES\, JEWELRY\, AND HOME GOODS IS AT THE PORTLAND FLEA”\n– FAQ – \nhttps://www.pdxflea.com/faq-1 \n– APPLY TO BE A VENDOR – \nhttps://www.pdxflea.com/apply
URL:https://ecotrust.org/event/pdx-flea-holiday-market/2024-11-24/
LOCATION:The Redd on Salmon Street\, 831 SE Salmon Street\, Portland\, OR\, 97214\, United States
END:VEVENT
BEGIN:VEVENT
DTSTART;TZID=America/Los_Angeles:20240515T173000
DTEND;TZID=America/Los_Angeles:20240515T173000
DTSTAMP:20260423T045823
CREATED:20240409T165428Z
LAST-MODIFIED:20250424T154834Z
UID:10000155-1715794200-1715794200@ecotrust.org
SUMMARY:Ukandu Wine and Dine For Hope & Joy
DESCRIPTION:Ukandu’s largest and most popular fundraiser is back on May 15th at The Redd on Salmon! Don’t miss out on the 2025 Wine & Dine for Hope & Joy where attendees will be able to support Ukandu while enjoying unlimited sips and bites from our region’s best chefs and wineries! \nWine & Dine is a mix-and-mingle event\, meaning attendees can sample all 20+ booths\, return to their favorites\, and interact with some of Portland’s renowned chefs and winemakers. Attendees will also have the opportunity to participate in one of two incredible raffle packages\, bid on one-of-a-kind auction items\, and participate in a special appeal to support Ukandu. \nThe best part? 100% of the funds raised through Wine & Dine support Ukandu in providing hope\, joy\, and connection\, free of charge\, to communities impacted by childhood cancer. If you haven’t reserved your tickets for Wine & Dine yet\, it’s not too late! Secure your tickets here. 
URL:https://ecotrust.org/event/ukandu-wine-and-dine-for-hope-joy/
LOCATION:The Redd on Salmon Street\, 831 SE Salmon Street\, Portland\, OR\, 97214\, United States
ATTACH;FMTTYPE=image/jpeg:https://ecotrust.org/wp-content/uploads/2024/04/Ukandu_Wine_and_Dine_2025.jpg
END:VEVENT
END:VCALENDAR