BEGIN:VCALENDAR
VERSION:2.0
PRODID:-//Ecotrust - ECPv6.15.15//NONSGML v1.0//EN
CALSCALE:GREGORIAN
METHOD:PUBLISH
X-WR-CALNAME:Ecotrust
X-ORIGINAL-URL:https://ecotrust.org
X-WR-CALDESC:Events for Ecotrust
REFRESH-INTERVAL;VALUE=DURATION:PT1H
X-Robots-Tag:noindex
X-PUBLISHED-TTL:PT1H
BEGIN:VTIMEZONE
TZID:America/Los_Angeles
BEGIN:DAYLIGHT
TZOFFSETFROM:-0800
TZOFFSETTO:-0700
TZNAME:PDT
DTSTART:20240310T100000
END:DAYLIGHT
BEGIN:STANDARD
TZOFFSETFROM:-0700
TZOFFSETTO:-0800
TZNAME:PST
DTSTART:20241103T090000
END:STANDARD
BEGIN:DAYLIGHT
TZOFFSETFROM:-0800
TZOFFSETTO:-0700
TZNAME:PDT
DTSTART:20250309T100000
END:DAYLIGHT
BEGIN:STANDARD
TZOFFSETFROM:-0700
TZOFFSETTO:-0800
TZNAME:PST
DTSTART:20251102T090000
END:STANDARD
BEGIN:DAYLIGHT
TZOFFSETFROM:-0800
TZOFFSETTO:-0700
TZNAME:PDT
DTSTART:20260308T100000
END:DAYLIGHT
BEGIN:STANDARD
TZOFFSETFROM:-0700
TZOFFSETTO:-0800
TZNAME:PST
DTSTART:20261101T090000
END:STANDARD
END:VTIMEZONE
BEGIN:VEVENT
DTSTART;TZID=America/Los_Angeles:20250302T100000
DTEND;TZID=America/Los_Angeles:20250302T130000
DTSTAMP:20260422T160718
CREATED:20240228T224359Z
LAST-MODIFIED:20250130T190920Z
UID:10000081-1740909600-1740920400@ecotrust.org
SUMMARY:The 2025 CSA Share Fair
DESCRIPTION:Join PNW CSA at Share Fair to: \n\nLearn about Community Supported Agriculture\nMeet 45 local farmers and ranchers\nExperience live cooking demos by celebrated local chefs\nDelight in fun activities for kids\nTry your luck in our raffle to win exciting prizes\nShop like you’re at a farmers market\nEnjoy delicious Latin American dishes from Comida Kin\nFind Your Farm with our Matchmakers and sign up for a CSA!\n\nBuy a CSA Share with SNAP for 50% off with Double Up Food Bucks \nCSA is now one of the most cost-effective ways to eat healthy! DUFB matches SNAP benefits to double the healthy produce that CSA members receive\, making CSA a financially accessible option for food-insecure Oregonians.
URL:https://ecotrust.org/event/csa-share-fair-2024/
LOCATION:The Redd on Salmon Street\, 831 SE Salmon Street\, Portland\, OR\, 97214\, United States
END:VEVENT
BEGIN:VEVENT
DTSTART;TZID=America/Los_Angeles:20250316T043000
DTEND;TZID=America/Los_Angeles:20250316T193000
DTSTAMP:20260422T160718
CREATED:20250312T224450Z
LAST-MODIFIED:20250312T225027Z
UID:10000421-1742099400-1742153400@ecotrust.org
SUMMARY:"They’re Trying to Kill Us" Documentary Screening
DESCRIPTION:Portland Premiere Featuring John Lewis \nThey’re Trying to Kill Us is a groundbreaking documentary directed by John Lewis and Keegan Kuhn (Cowspiracy\, What The Health) with Executive Producers seven-time NBA All-Star\, Chris Paul and 7X Grammy winner\, Billie Eilish. The film features notable influencers from the fields of Hip Hop\, medicine\, sports\, entertainment\, policy\, and politics weighing in on the singular most deadly threat to American society that mainstream media doesn’t want to talk about. \nFilm Screening\, Discussion\, Reception\nPresented by Veganizer\, this special screening of They’re Trying to Kill Us features guest speaker John Lewis a.k.a. Badass Vegan. Enjoy delicious snacks by Plant Based Papi and Ice Queen\, paired with refreshing sips by GT’s Kombucha. We will be donating a portion of ticket sales to Black Futures Farm and Native American Youth and Family Center. \nWin the Badass Vegan Cookbook\nYour ticket also includes a chance to win the Badass Vegan cookbook. At the end of the evening\, we will raffle off a copy of the book. Every ticket is one entry into the raffle.
URL:https://ecotrust.org/event/theyre-trying-to-kill-us-documentary-screening/
LOCATION:The Redd on Salmon Street\, 831 SE Salmon Street\, Portland\, OR\, 97214\, United States
ORGANIZER;CN="Veganizer":MAILTO:veganizerpdx@gmail.com
END:VEVENT
BEGIN:VEVENT
DTSTART;TZID=America/Los_Angeles:20250319T110000
DTEND;TZID=America/Los_Angeles:20250319T123000
DTSTAMP:20260422T160718
CREATED:20250310T205643Z
LAST-MODIFIED:20250310T210450Z
UID:10000419-1742382000-1742387400@ecotrust.org
SUMMARY:Join A Tour At The Redd
DESCRIPTION:Curious to learn more about the Redd on Salmon?\nEcotrust will be hosting a free tour of the Redd on Salmon Street campus. The tour will include both Redd West\, a vibrant food hub and home to Ecotrust offices\, and Redd East\, our world-class event space. If you have wanted to learn more about how the Redd supports the growth of a robust regional food economy\, please join us! \nFind the tour sign-up below.
URL:https://ecotrust.org/event/join-a-tour-at-the-redd/
ATTACH;FMTTYPE=image/jpeg:https://ecotrust.org/wp-content/uploads/2025/03/TourTheReddSquare.jpg
END:VEVENT
BEGIN:VEVENT
DTSTART;TZID=America/Los_Angeles:20250325T110000
DTEND;TZID=America/Los_Angeles:20250325T123000
DTSTAMP:20260422T160718
CREATED:20250310T154901Z
LAST-MODIFIED:20250310T155023Z
UID:10000418-1742900400-1742905800@ecotrust.org
SUMMARY:Indigenous Agroforestry in the Northwest
DESCRIPTION:Learn about the Indigenous Agroforestry Network and explore key findings from the Indigenous Agroforestry Survey Report! \nIn this webinar\, “Indigenous Agroforestry in the Northwest\,” Stephanie Gutierrez (San Carlos Apache)\, Forest and Community Program Director at Ecotrust\, will explore key findings from the Indigenous Agroforestry Survey Report and delve into these questions: What insight did the survey reveal about the state of Indigenous agroforestry today? What challenges or opportunities exist for Tribes and Indigenous practitioners? How can government agencies\, universities\, and community organizations support Indigenous agroforestry practitioners?
URL:https://ecotrust.org/event/indigenous-agroforestry-in-the-northwest/
LOCATION:Online
ATTACH;FMTTYPE=image/jpeg:https://ecotrust.org/wp-content/uploads/2025/03/Indigenous-Agroforestry-in-the-Northwest_2025.jpg
END:VEVENT
BEGIN:VEVENT
DTSTART;TZID=America/Los_Angeles:20250328T120000
DTEND;TZID=America/Los_Angeles:20250328T140000
DTSTAMP:20260422T160718
CREATED:20250224T225526Z
LAST-MODIFIED:20250224T225526Z
UID:10000412-1743163200-1743170400@ecotrust.org
SUMMARY:Sisterhood Kitchen Collective Tour & Tasting Event
DESCRIPTION:Experience Sisterhood Kitchen Collective firsthand and meet their amazing community! \nWhether you’re a food entrepreneur\, caterer\, or product developer\, Sisterhood Kitchen Collective is here to provide the perfect space to grow your business and bring your culinary dreams to life. A fully equipped commissary kitchen and collaborative space\, Sisterhood Kitchen Collective was created to uplift and support women of color in the food industry. While our mission centers around women of color\, we are an inclusive community for all women-owned food businesses.
URL:https://ecotrust.org/event/sisterhood-kitchen-collective-tour-tasting-event/
LOCATION:Sisterhood Kitchen Collective\, 1140 SE 7th Ave\, Suite 160\, Portland\, OR\, United States
END:VEVENT
BEGIN:VEVENT
DTSTART;TZID=America/Los_Angeles:20250329T083000
DTEND;TZID=America/Los_Angeles:20250330T160000
DTSTAMP:20260422T160718
CREATED:20250226T221209Z
LAST-MODIFIED:20250227T235510Z
UID:10000416-1743237000-1743350400@ecotrust.org
SUMMARY:2025 Gathering of Native Weavers
DESCRIPTION:Announcing the Gathering of Native Weavers in Portland Oregon. \nCome weave at a two day event at The Redd event center. Doors open at 8:30 am and weaving starts at 9:00 am. Come learn from Amazing Master Weavers. \nKit fees are to be paid directly to the Master Weavers. \nThere is free parking in the lot attached to the Redd. Additional parking is available on the street.
URL:https://ecotrust.org/event/2025-gathering-of-native-weavers/
LOCATION:The Redd on Salmon Street\, 831 SE Salmon Street\, Portland\, OR\, 97214\, United States
ATTACH;FMTTYPE=image/jpeg:https://ecotrust.org/wp-content/uploads/2025/02/2025_Gathering-of_Native_Weavers.jpg
END:VEVENT
END:VCALENDAR