BEGIN:VCALENDAR
VERSION:2.0
PRODID:-//Ecotrust - ECPv6.15.15//NONSGML v1.0//EN
CALSCALE:GREGORIAN
METHOD:PUBLISH
X-ORIGINAL-URL:https://ecotrust.org
X-WR-CALDESC:Events for Ecotrust
REFRESH-INTERVAL;VALUE=DURATION:PT1H
X-Robots-Tag:noindex
X-PUBLISHED-TTL:PT1H
BEGIN:VTIMEZONE
TZID:America/Los_Angeles
BEGIN:DAYLIGHT
TZOFFSETFROM:-0800
TZOFFSETTO:-0700
TZNAME:PDT
DTSTART:20240310T100000
END:DAYLIGHT
BEGIN:STANDARD
TZOFFSETFROM:-0700
TZOFFSETTO:-0800
TZNAME:PST
DTSTART:20241103T090000
END:STANDARD
BEGIN:DAYLIGHT
TZOFFSETFROM:-0800
TZOFFSETTO:-0700
TZNAME:PDT
DTSTART:20250309T100000
END:DAYLIGHT
BEGIN:STANDARD
TZOFFSETFROM:-0700
TZOFFSETTO:-0800
TZNAME:PST
DTSTART:20251102T090000
END:STANDARD
BEGIN:DAYLIGHT
TZOFFSETFROM:-0800
TZOFFSETTO:-0700
TZNAME:PDT
DTSTART:20260308T100000
END:DAYLIGHT
BEGIN:STANDARD
TZOFFSETFROM:-0700
TZOFFSETTO:-0800
TZNAME:PST
DTSTART:20261101T090000
END:STANDARD
END:VTIMEZONE
BEGIN:VEVENT
DTSTART;TZID=America/Los_Angeles:20250503T110000
DTEND;TZID=America/Los_Angeles:20250503T180000
DTSTAMP:20260420T100108
CREATED:20240401T172348Z
LAST-MODIFIED:20250313T174100Z
UID:10000087-1746270000-1746295200@ecotrust.org
SUMMARY:The Portland Derby
DESCRIPTION:The Portland Derby is BACK for its 18th Installment!\nThe 18th installment of the Portland Derby is back.\nCelebrating the greatest two minutes in sports\, the “Run for the Rose City\,” is the social event of the Spring. A day for fashion\, mint juleps\, roses\, ponies and dancing! \nPrizes for best dressed. \n21+ over event – ID is required at the door for entry. \nVisit PortlandDerby.com for more information.
URL:https://ecotrust.org/event/the-portland-derby/
LOCATION:The Redd on Salmon Street\, 831 SE Salmon Street\, Portland\, OR\, 97214\, United States
END:VEVENT
BEGIN:VEVENT
DTSTART;TZID=America/Los_Angeles:20250504T090000
DTEND;TZID=America/Los_Angeles:20250504T103000
DTSTAMP:20260420T100108
CREATED:20250411T190204Z
LAST-MODIFIED:20250411T192346Z
UID:10000739-1746349200-1746354600@ecotrust.org
SUMMARY:Pearl Church | Service
DESCRIPTION:Join on Sunday mornings at 9:00am & 10:30am. \nMeet in the historic Ecotrust building in the Pearl District. Kids & Youth programs are offered at the 10:30am service.
URL:https://ecotrust.org/event/pearl-church-service/2025-05-04/
LOCATION:The Redd on Salmon Street\, 831 SE Salmon Street\, Portland\, OR\, 97214\, United States
ATTACH;FMTTYPE=image/jpeg:https://ecotrust.org/wp-content/uploads/2025/04/PearlChurch_Service_2025.jpg
ORGANIZER;CN="Pearl Church":MAILTO:info@pearlchurch.org
END:VEVENT
BEGIN:VEVENT
DTSTART;TZID=America/Los_Angeles:20250509T150000
DTEND;TZID=America/Los_Angeles:20250509T190000
DTSTAMP:20260420T100108
CREATED:20250421T161452Z
LAST-MODIFIED:20250429T153303Z
UID:10001000-1746802800-1746817200@ecotrust.org
SUMMARY:The Community Table Showcase By Feed the Mass
DESCRIPTION:Join The Community Table Showcase: Where Nonprofits\, Businesses\, And Neighbors Unite\, an unforgettable event hosted by Feed the Mass—celebrating more than nine years of service\, growth\, and impact. This gathering of 10+ local nonprofits and many supporting businesses is a testament to the strength of our community and the progress made together\, and this isn’t your typical nonprofit fundraiser! While support is always appreciated\, the goal for this event is to give back and celebrate the connections\, resources\, and change that have been cultivated as an organization. It’s an opportunity to recognize the storms weathered and the incredible milestones reached\, thanks in large part to the spirit of service and compassion displayed by so many volunteers and supporters across Portland. \nWith the support of sponsors\, this event is 100% free to attend and participate in. When you join us on May 9th\, you’ll be part of an inspiring and interactive event that brings people together through the power of food\, culture\, and connection. Here’s what you can look forward to: \nCommunity Connections with Nonprofit Partners \nExplore local organizations and businesses making an impact in the community. Learn about their work\, connect with their teams\, and discover how you can get involved. \nGetting to Know the NEW Feed the Mass Resource Center \nFeed the Mass is growing!! With an exciting new expansion coming to the meal service and production work soon\, Feed the Mass can’t wait to share more at this event about the continuing growth to serve new communities in need! \nFlavors from Locally Owned Food Trucks \nIndulge in delicious bites from some of the best food trucks in town\, each offering unique dishes that showcase the diversity and creativity of our local food scene. \nLive Cooking Demonstrations and Classes \nExperience the magic of food in action! Watch live cooking demonstrations or join in hands-on classes led by passionate chefs and culinary experts – and maybe even some special guests! \nLive Panel Sessions \nEngage with creators\, business owners\, and chefs from throughout Portland as they share their experiences\, learnings from years of serving the community\, and unique approaches to food! \nFeed the Mass has always been about serving and uplifting others\, and this event is a chance to come together in joy and gratitude. Celebrate the journey\, the people\, and the shared vision that drives Feed the Mass forward. Be part of the continuing story—join for a day that’s all about connection\, celebration\, and community.
URL:https://ecotrust.org/event/feed-the-mass-the-community-table-showcase/
LOCATION:The Redd on Salmon Street\, 831 SE Salmon Street\, Portland\, OR\, 97214\, United States
ORGANIZER;CN="Feed The Mass":MAILTO:info@feedthemass.com
END:VEVENT
BEGIN:VEVENT
DTSTART;TZID=America/Los_Angeles:20250511T090000
DTEND;TZID=America/Los_Angeles:20250511T103000
DTSTAMP:20260420T100108
CREATED:20250411T190204Z
LAST-MODIFIED:20250411T192346Z
UID:10000740-1746954000-1746959400@ecotrust.org
SUMMARY:Pearl Church | Service
DESCRIPTION:Join on Sunday mornings at 9:00am & 10:30am. \nMeet in the historic Ecotrust building in the Pearl District. Kids & Youth programs are offered at the 10:30am service.
URL:https://ecotrust.org/event/pearl-church-service/2025-05-11/
LOCATION:The Redd on Salmon Street\, 831 SE Salmon Street\, Portland\, OR\, 97214\, United States
ATTACH;FMTTYPE=image/jpeg:https://ecotrust.org/wp-content/uploads/2025/04/PearlChurch_Service_2025.jpg
ORGANIZER;CN="Pearl Church":MAILTO:info@pearlchurch.org
END:VEVENT
BEGIN:VEVENT
DTSTART;TZID=America/Los_Angeles:20250512T170000
DTEND;TZID=America/Los_Angeles:20250512T193000
DTSTAMP:20260420T100108
CREATED:20250501T204720Z
LAST-MODIFIED:20250501T214114Z
UID:10001048-1747069200-1747078200@ecotrust.org
SUMMARY:Rooted Resilience: Land\, Legacy\, and Climate
DESCRIPTION:Gather with us on May 12 at Black Futures Farm to reconnect with ancestral growing traditions\, explore Afro-Indigenous farming practices\, and exchange knowledge about caring for land and community in a changing climate. Together\, we’ll reflect on our relationships to land\, food\, and lineage while building practical strategies to care for soil\, water\, and community. \nThis is the first workshop in a three-part series designed for farmers\, gardeners\, land stewards\, and anyone ready to reconnect with land and lineage while farming in a changing climate. Whether you grow on a balcony\, backyard\, or acreage\, you are welcome.
URL:https://ecotrust.org/event/rooted-resilience-land-legacy-and-climate/
LOCATION:Black Futures Farm\, 6745 SE 60th Ave\, Portland\, OR\, 97206\, United States
ATTACH;FMTTYPE=image/png:https://ecotrust.org/wp-content/uploads/2025/05/Screenshot-2025-05-01-at-2.34.43 PM.png
END:VEVENT
BEGIN:VEVENT
DTSTART;TZID=America/Los_Angeles:20250515T173000
DTEND;TZID=America/Los_Angeles:20250515T173000
DTSTAMP:20260420T100108
CREATED:20250508T003916Z
LAST-MODIFIED:20250508T003916Z
UID:10001054-1747330200-1747330200@ecotrust.org
SUMMARY:Wine & Dine for Hope & Joy
DESCRIPTION:Ukandu’s largest and most popular fundraiser is back on May 15th at The Redd on Salmon! Don’t miss out on the 2025 Wine & Dine for Hope & Joy where attendees will be able to support Ukandu while enjoying unlimited sips and bites from our region’s best chefs and wineries! \nThis year’s event\, taking place on May 15th at 5:30 PM\, features an incredible lineup of chefs and wineries\, including Han Oak\, Kachka\, Le Pigeon\, Rangoon Bistro\, LeChon\, Eem\, Arden\, Lardo\, Hat Yai\, Kau Kau\, Bar Diane\, Republica\, Dolly Olive\, Chocolat-e\, Compass Craft Catering\, Division Wines\, Kelley Fox Wines\, Roco\, Violin\, Alloro\, Arlyn\, Patricia Green\, Royer Wines\, and more!
URL:https://ecotrust.org/event/wine-dine-for-hope-joy-2025/
LOCATION:The Redd on Salmon Street\, 831 SE Salmon Street\, Portland\, OR\, 97214\, United States
END:VEVENT
BEGIN:VEVENT
DTSTART;TZID=America/Los_Angeles:20250518T090000
DTEND;TZID=America/Los_Angeles:20250518T103000
DTSTAMP:20260420T100108
CREATED:20250411T190204Z
LAST-MODIFIED:20250411T192346Z
UID:10000741-1747558800-1747564200@ecotrust.org
SUMMARY:Pearl Church | Service
DESCRIPTION:Join on Sunday mornings at 9:00am & 10:30am. \nMeet in the historic Ecotrust building in the Pearl District. Kids & Youth programs are offered at the 10:30am service.
URL:https://ecotrust.org/event/pearl-church-service/2025-05-18/
LOCATION:The Redd on Salmon Street\, 831 SE Salmon Street\, Portland\, OR\, 97214\, United States
ATTACH;FMTTYPE=image/jpeg:https://ecotrust.org/wp-content/uploads/2025/04/PearlChurch_Service_2025.jpg
ORGANIZER;CN="Pearl Church":MAILTO:info@pearlchurch.org
END:VEVENT
BEGIN:VEVENT
DTSTART;TZID=America/Los_Angeles:20250518T120000
DTEND;TZID=America/Los_Angeles:20250518T180000
DTSTAMP:20260420T100108
CREATED:20250425T155127Z
LAST-MODIFIED:20250425T161939Z
UID:10001001-1747569600-1747591200@ecotrust.org
SUMMARY:Portland Market of the Beast | spring market
DESCRIPTION:A dark art market for the weird\, wild\, occult\, and obscure.
URL:https://ecotrust.org/event/portland-market-of-the-beast-spring-market/
LOCATION:The Redd on Salmon Street\, 831 SE Salmon Street\, Portland\, OR\, 97214\, United States
ATTACH;FMTTYPE=image/jpeg:https://ecotrust.org/wp-content/uploads/2025/04/Market_of_the_Beast_Spring_2025.jpg
END:VEVENT
BEGIN:VEVENT
DTSTART;TZID=America/Los_Angeles:20250522T163000
DTEND;TZID=America/Los_Angeles:20250522T183000
DTSTAMP:20260420T100108
CREATED:20250317T215352Z
LAST-MODIFIED:20250320T154102Z
UID:10000471-1747931400-1747938600@ecotrust.org
SUMMARY:The Neurodiverse Workplace in Tech
DESCRIPTION:The Open Source Fellowship is a community program that equips technologists with the tools they need to thrive in a collaborative Neurodiverse Workplace\, a place of innovation and thriving minds! \n  \n4:30 PM – 5:00 PM \nIntroduction to the Open Source Fellowship + Q/A\nWhat is the Open Source Fellowship and how can you get involved the program. Conversation about why this program was created and the activities that will take place\, and conversation about a paid fellowship for 5 people from June 2025\, to June 2026. \n5:00 PM – 5:30 PM \nTechnology Roles and Shared Neurodiverse Experiences\nExploring the high-level roles typically required to develop applications. Also the floor will be open for others to share their personal experiences building a career as a neurodiverse person\, and what strategies have you developed in the workplace.
URL:https://ecotrust.org/event/the-neurodiverse-workplace-in-tech/
LOCATION:Natural Capital Center\, 721 NW 9th Ave\, Portland
END:VEVENT
BEGIN:VEVENT
DTSTART;TZID=America/Los_Angeles:20250522T173000
DTEND;TZID=America/Los_Angeles:20250522T203000
DTSTAMP:20260420T100108
CREATED:20250411T184249Z
LAST-MODIFIED:20250411T184249Z
UID:10000474-1747935000-1747945800@ecotrust.org
SUMMARY:Celebrate 2025: IRCO Gala
DESCRIPTION:You’re cordially invited to join us for Celebrate 2025\, the Immigrant & Refugee Community Organization’s annual Gala. This exciting evening will be filled with delicious food\, cultural performances\, remarks from community leaders\, and updates on all the incredible things your support has enabled in the last year.
URL:https://ecotrust.org/event/celebrate-2025-irco-gala/
END:VEVENT
BEGIN:VEVENT
DTSTART;TZID=America/Los_Angeles:20250525T090000
DTEND;TZID=America/Los_Angeles:20250525T103000
DTSTAMP:20260420T100108
CREATED:20250411T190204Z
LAST-MODIFIED:20250411T192346Z
UID:10000742-1748163600-1748169000@ecotrust.org
SUMMARY:Pearl Church | Service
DESCRIPTION:Join on Sunday mornings at 9:00am & 10:30am. \nMeet in the historic Ecotrust building in the Pearl District. Kids & Youth programs are offered at the 10:30am service.
URL:https://ecotrust.org/event/pearl-church-service/2025-05-25/
LOCATION:The Redd on Salmon Street\, 831 SE Salmon Street\, Portland\, OR\, 97214\, United States
ATTACH;FMTTYPE=image/jpeg:https://ecotrust.org/wp-content/uploads/2025/04/PearlChurch_Service_2025.jpg
ORGANIZER;CN="Pearl Church":MAILTO:info@pearlchurch.org
END:VEVENT
BEGIN:VEVENT
DTSTART;TZID=America/Los_Angeles:20250525T110000
DTEND;TZID=America/Los_Angeles:20250525T160000
DTSTAMP:20260420T100109
CREATED:20250313T163534Z
LAST-MODIFIED:20250313T170239Z
UID:10000464-1748170800-1748188800@ecotrust.org
SUMMARY:Portland Flea - PDX Flea Market
DESCRIPTION:“SOME OF PORTLAND\, OREGON’S BEST SHOPPING FOR VINTAGE CLOTHES\, JEWELRY\, AND HOME GOODS IS AT THE PORTLAND FLEA”\n– FAQ – \nhttps://www.pdxflea.com/faq-1 \n– APPLY TO BE A VENDOR – \nhttps://www.pdxflea.com/apply
URL:https://ecotrust.org/event/portland-flea-pdx-flea-market-4/2025-05-25/
LOCATION:The Redd on Salmon Street\, 831 SE Salmon Street\, Portland\, OR\, 97214\, United States
END:VEVENT
BEGIN:VEVENT
DTSTART;TZID=America/Los_Angeles:20250528T170000
DTEND;TZID=America/Los_Angeles:20250528T190000
DTSTAMP:20260420T100109
CREATED:20250501T212304Z
LAST-MODIFIED:20250501T214049Z
UID:10001049-1748451600-1748458800@ecotrust.org
SUMMARY:Cultivating Connection: Part One
DESCRIPTION:Gather with us on May 28 at the Redd to build relationships\, share experiences\, and strengthen community among urban farmers\, growers\, and land stewards. \nThrough conversation\, storytelling\, and a shared meal\, we’ll reflect on our experiences as producers\, the conditions shaping our work\, and the possibilities we can build together. This is a space to connect\, listen\, and imagine what’s needed to better support urban growers across our region.
URL:https://ecotrust.org/event/cultivating-connection-part-one/
LOCATION:The Redd on Salmon Street\, 831 SE Salmon Street\, Portland\, OR\, 97214\, United States
ATTACH;FMTTYPE=image/png:https://ecotrust.org/wp-content/uploads/2025/05/cultivating_connection.png
END:VEVENT
END:VCALENDAR