BEGIN:VCALENDAR
VERSION:2.0
PRODID:-//Ecotrust - ECPv6.15.15//NONSGML v1.0//EN
CALSCALE:GREGORIAN
METHOD:PUBLISH
X-ORIGINAL-URL:https://ecotrust.org
X-WR-CALDESC:Events for Ecotrust
REFRESH-INTERVAL;VALUE=DURATION:PT1H
X-Robots-Tag:noindex
X-PUBLISHED-TTL:PT1H
BEGIN:VTIMEZONE
TZID:America/Los_Angeles
BEGIN:DAYLIGHT
TZOFFSETFROM:-0800
TZOFFSETTO:-0700
TZNAME:PDT
DTSTART:20240310T100000
END:DAYLIGHT
BEGIN:STANDARD
TZOFFSETFROM:-0700
TZOFFSETTO:-0800
TZNAME:PST
DTSTART:20241103T090000
END:STANDARD
BEGIN:DAYLIGHT
TZOFFSETFROM:-0800
TZOFFSETTO:-0700
TZNAME:PDT
DTSTART:20250309T100000
END:DAYLIGHT
BEGIN:STANDARD
TZOFFSETFROM:-0700
TZOFFSETTO:-0800
TZNAME:PST
DTSTART:20251102T090000
END:STANDARD
BEGIN:DAYLIGHT
TZOFFSETFROM:-0800
TZOFFSETTO:-0700
TZNAME:PDT
DTSTART:20260308T100000
END:DAYLIGHT
BEGIN:STANDARD
TZOFFSETFROM:-0700
TZOFFSETTO:-0800
TZNAME:PST
DTSTART:20261101T090000
END:STANDARD
END:VTIMEZONE
BEGIN:VEVENT
DTSTART;TZID=America/Los_Angeles:20251203T110000
DTEND;TZID=America/Los_Angeles:20251203T120000
DTSTAMP:20260420T082714
CREATED:20251120T182350Z
LAST-MODIFIED:20251120T182350Z
UID:10001097-1764759600-1764763200@ecotrust.org
SUMMARY:Indigenous Agroforestry Network quarterly webinar: Weaving Ecology\, Production\, and Culture
DESCRIPTION:Join us on December 3\, 2025 at 11am PT for the Indigenous Agroforestry Network’s last quarterly webinar of 2025! \nThis year’s closing webinar will feature two team members from Agroforestry Northwest: Carrie Brausieck\, co-founder and executive director\, and Linzie Crofoot\, Northwest Indigenous ethnobotanist and ecologist. Together\, they will lead a presentation titled “Weaving Ecology\, Production\, and Culture\,” spotlighting the organization’s groundbreaking Biocultural Restoration Initiative. \nLearn about Agroforestry Northwest’s mission and how they are integrating regenerative agroforestry practices with Indigenous land stewardship and the arts to revitalize ecological health and cultural connections across the Pacific Northwest. The session will highlight their demonstration farm\, demonstration forest\, and Skykomish riparian restoration camping\, offering a closer look at community-driven approaches to building resilient landscapes and food systems that honor traditional knowledge and support a sustainable future.
URL:https://ecotrust.org/event/indigenous-agroforestry-network-quarterly-webinar-weaving-ecology-production-and-culture/
LOCATION:Online
ATTACH;FMTTYPE=image/png:https://ecotrust.org/wp-content/uploads/2025/11/IAN_webinar_event-e1763662954579.png
END:VEVENT
BEGIN:VEVENT
DTSTART;TZID=America/Los_Angeles:20251207T090000
DTEND;TZID=America/Los_Angeles:20251207T103000
DTSTAMP:20260420T082714
CREATED:20250411T190204Z
LAST-MODIFIED:20250411T192346Z
UID:10000770-1765098000-1765103400@ecotrust.org
SUMMARY:Pearl Church | Service
DESCRIPTION:Join on Sunday mornings at 9:00am & 10:30am. \nMeet in the historic Ecotrust building in the Pearl District. Kids & Youth programs are offered at the 10:30am service.
URL:https://ecotrust.org/event/pearl-church-service/2025-12-07/
LOCATION:The Redd on Salmon Street\, 831 SE Salmon Street\, Portland\, OR\, 97214\, United States
ATTACH;FMTTYPE=image/jpeg:https://ecotrust.org/wp-content/uploads/2025/04/PearlChurch_Service_2025.jpg
ORGANIZER;CN="Pearl Church":MAILTO:info@pearlchurch.org
END:VEVENT
BEGIN:VEVENT
DTSTART;TZID=America/Los_Angeles:20251207T150000
DTEND;TZID=America/Los_Angeles:20251207T180000
DTSTAMP:20260420T082714
CREATED:20251106T203807Z
LAST-MODIFIED:20251106T203807Z
UID:10001095-1765119600-1765130400@ecotrust.org
SUMMARY:Sagra del Radicchio + Cider
DESCRIPTION:Explore the wide world of chicories and cider apples\, alongside other unsung heroes of the winter table like quince\, medlar\, buckwheat\, barley\, dry beans\, hazelnuts\, and (pink!) cabbage. This joyful and educational culinary and cultural experience is like no other. \nTaste your way through more than 35 tables curated by farmers\, breeders\, chefs\, and makers from the Pacific Northwest and beyond. Twenty tables will feature unique fermented cider pairings highlighting different cider styles and apple varietals. \nCome to taste\, learn\, and celebrate the bounty of winter vegetables\, fruits\, beans\, nuts and grains. \nTICKETS: \nEarly bird: $50 (available through November 6)\nGeneral admission: $55 (after November 6) \nFeatured Chefs from: Antica Terra\, Bar Nouveau\, Bauman’s\, Berlu\, Cafe Olli\, Camino (resurrected!)\, Chicory\, Coquine\, Grand Central Baking\, Grounded Table\, Hayward\, Hot Mama Salsa\, Houlme\, Food Innovation Center\, Kachka\, Lilia Comedor\, Lovely’s Fifty Fifty\, No Saint\, Nostrana\, Pinolo Gelato\, Pizza Thief\, Sauvette\, Sauvie Shrubs\, Tam Tam\, The Corson Building\, Valley Bar and Bottle and more.
URL:https://ecotrust.org/event/sagra-del-radicchio-2025/
LOCATION:The Redd on Salmon Street\, 831 SE Salmon Street\, Portland\, OR\, 97214\, United States
END:VEVENT
BEGIN:VEVENT
DTSTART;TZID=America/Los_Angeles:20251210T180000
DTEND;TZID=America/Los_Angeles:20251210T200000
DTSTAMP:20260420T082714
CREATED:20251120T181641Z
LAST-MODIFIED:20251120T181641Z
UID:10001096-1765389600-1765396800@ecotrust.org
SUMMARY:Rooted Resilience: Management\, Stewardship\, & Conservation
DESCRIPTION:Join us for a workshop on climate resilient farming with farmer James King Jr.\, hosted at East Multnomah Soil & Water Conservation District Office. \nRooted Resilience: Management\, Stewardship\, & Conservation\nGather with us on December 10 at East Multnomah Soil & Water Conservation District Office for a workshop exploring how ancestral and cultural practices can guide climate-resilient farming today. \nParticipants will learn practical soil health improvement strategies\, as well as how soil health improvements provide environmental\, economic\, and social benefits. Participants will also have the opportunity to network with a direct technical assistance provider and learn about other resources such as training programs\, educational materials\, and funding opportunities available for beginner farmers. \nWhen: December 10\, 6:00–8:00 PM. Dinner will be provided. \nWhere: East Multnomah Soil & Water Conservation District Office. Address provided prior to event. \n“Rooted Resilience: Management\, Stewardship\, & Conservation” is presented by Ecotrust\, Black Food Sovereignty Coalition and Azimu Group in partnership with the East Multnomah Soil & Water Conservation District. \nIntended Audience\nThis is the third workshop in a six-part series designed for new farmers\, urban gardeners\, home growers\, land stewards\, and anyone interested in reconnecting with land and lineage\, while learning to farm in a changing climate. Whether you’re growing in a backyard\, on a balcony\, or managing acreage\, we’d love to have you join us. \nActivities will be family-friendly\, and we aim to create a space where all generations can connect with the land and with each other. However\, we will not be offering childcare for this workshop. \nLanguage\nThe instruction will be delivered in English. If you require translation services\, please let us know a week in advance by emailing us at foodsystemequity@ecotrust.org with the language for which you need translation.
URL:https://ecotrust.org/event/rooted-resilience-management-stewardship-conservation/
LOCATION:East Multnomah Soil & Water Conservation District Office
ATTACH;FMTTYPE=image/png:https://ecotrust.org/wp-content/uploads/2025/11/Social-Rooted-Resilience-Management-Stewardship-Conservation-Instagram-Post-45-e1763662574492.png
END:VEVENT
BEGIN:VEVENT
DTSTART;TZID=America/Los_Angeles:20251214T090000
DTEND;TZID=America/Los_Angeles:20251214T103000
DTSTAMP:20260420T082714
CREATED:20250411T190204Z
LAST-MODIFIED:20250411T192346Z
UID:10000771-1765702800-1765708200@ecotrust.org
SUMMARY:Pearl Church | Service
DESCRIPTION:Join on Sunday mornings at 9:00am & 10:30am. \nMeet in the historic Ecotrust building in the Pearl District. Kids & Youth programs are offered at the 10:30am service.
URL:https://ecotrust.org/event/pearl-church-service/2025-12-14/
LOCATION:The Redd on Salmon Street\, 831 SE Salmon Street\, Portland\, OR\, 97214\, United States
ATTACH;FMTTYPE=image/jpeg:https://ecotrust.org/wp-content/uploads/2025/04/PearlChurch_Service_2025.jpg
ORGANIZER;CN="Pearl Church":MAILTO:info@pearlchurch.org
END:VEVENT
BEGIN:VEVENT
DTSTART;TZID=America/Los_Angeles:20251221T090000
DTEND;TZID=America/Los_Angeles:20251221T103000
DTSTAMP:20260420T082714
CREATED:20250411T190204Z
LAST-MODIFIED:20250411T192346Z
UID:10000772-1766307600-1766313000@ecotrust.org
SUMMARY:Pearl Church | Service
DESCRIPTION:Join on Sunday mornings at 9:00am & 10:30am. \nMeet in the historic Ecotrust building in the Pearl District. Kids & Youth programs are offered at the 10:30am service.
URL:https://ecotrust.org/event/pearl-church-service/2025-12-21/
LOCATION:The Redd on Salmon Street\, 831 SE Salmon Street\, Portland\, OR\, 97214\, United States
ATTACH;FMTTYPE=image/jpeg:https://ecotrust.org/wp-content/uploads/2025/04/PearlChurch_Service_2025.jpg
ORGANIZER;CN="Pearl Church":MAILTO:info@pearlchurch.org
END:VEVENT
BEGIN:VEVENT
DTSTART;TZID=America/Los_Angeles:20251221T130000
DTEND;TZID=America/Los_Angeles:20251221T180000
DTSTAMP:20260420T082715
CREATED:20251125T184316Z
LAST-MODIFIED:20251125T184316Z
UID:10001098-1766322000-1766340000@ecotrust.org
SUMMARY:Market of the Beast
DESCRIPTION:A dark art market for the weird\, wild\, occult\, and obscure \nPortland Market of the Beast\nEarly Entry 12p-1p $20\nGeneral Admission 1p-6p $15\n(All Ages)\nPortion of door fee will be donated to Planned Parenthood
URL:https://ecotrust.org/event/market-of-the-beast-2025/
LOCATION:The Redd on Salmon Street\, 831 SE Salmon Street\, Portland\, OR\, 97214\, United States
END:VEVENT
BEGIN:VEVENT
DTSTART;TZID=America/Los_Angeles:20251228T090000
DTEND;TZID=America/Los_Angeles:20251228T103000
DTSTAMP:20260420T082715
CREATED:20250411T190204Z
LAST-MODIFIED:20250411T192346Z
UID:10000773-1766912400-1766917800@ecotrust.org
SUMMARY:Pearl Church | Service
DESCRIPTION:Join on Sunday mornings at 9:00am & 10:30am. \nMeet in the historic Ecotrust building in the Pearl District. Kids & Youth programs are offered at the 10:30am service.
URL:https://ecotrust.org/event/pearl-church-service/2025-12-28/
LOCATION:The Redd on Salmon Street\, 831 SE Salmon Street\, Portland\, OR\, 97214\, United States
ATTACH;FMTTYPE=image/jpeg:https://ecotrust.org/wp-content/uploads/2025/04/PearlChurch_Service_2025.jpg
ORGANIZER;CN="Pearl Church":MAILTO:info@pearlchurch.org
END:VEVENT
END:VCALENDAR