BEGIN:VCALENDAR
VERSION:2.0
PRODID:-//Ecotrust - ECPv6.15.15//NONSGML v1.0//EN
CALSCALE:GREGORIAN
METHOD:PUBLISH
X-WR-CALNAME:Ecotrust
X-ORIGINAL-URL:https://ecotrust.org
X-WR-CALDESC:Events for Ecotrust
REFRESH-INTERVAL;VALUE=DURATION:PT1H
X-Robots-Tag:noindex
X-PUBLISHED-TTL:PT1H
BEGIN:VTIMEZONE
TZID:America/Los_Angeles
BEGIN:DAYLIGHT
TZOFFSETFROM:-0800
TZOFFSETTO:-0700
TZNAME:PDT
DTSTART:20250309T100000
END:DAYLIGHT
BEGIN:STANDARD
TZOFFSETFROM:-0700
TZOFFSETTO:-0800
TZNAME:PST
DTSTART:20251102T090000
END:STANDARD
BEGIN:DAYLIGHT
TZOFFSETFROM:-0800
TZOFFSETTO:-0700
TZNAME:PDT
DTSTART:20260308T100000
END:DAYLIGHT
BEGIN:STANDARD
TZOFFSETFROM:-0700
TZOFFSETTO:-0800
TZNAME:PST
DTSTART:20261101T090000
END:STANDARD
BEGIN:DAYLIGHT
TZOFFSETFROM:-0800
TZOFFSETTO:-0700
TZNAME:PDT
DTSTART:20270314T100000
END:DAYLIGHT
BEGIN:STANDARD
TZOFFSETFROM:-0700
TZOFFSETTO:-0800
TZNAME:PST
DTSTART:20271107T090000
END:STANDARD
END:VTIMEZONE
BEGIN:VEVENT
DTSTART;TZID=America/Los_Angeles:20260301T090000
DTEND;TZID=America/Los_Angeles:20260301T103000
DTSTAMP:20260418T213709
CREATED:20250411T190204Z
LAST-MODIFIED:20250411T192346Z
UID:10000782-1772355600-1772361000@ecotrust.org
SUMMARY:Pearl Church | Service
DESCRIPTION:Join on Sunday mornings at 9:00am & 10:30am. \nMeet in the historic Ecotrust building in the Pearl District. Kids & Youth programs are offered at the 10:30am service.
URL:https://ecotrust.org/event/pearl-church-service/2026-03-01/
LOCATION:The Redd on Salmon Street\, 831 SE Salmon Street\, Portland\, OR\, 97214\, United States
ATTACH;FMTTYPE=image/jpeg:https://ecotrust.org/wp-content/uploads/2025/04/PearlChurch_Service_2025.jpg
ORGANIZER;CN="Pearl Church":MAILTO:info@pearlchurch.org
END:VEVENT
BEGIN:VEVENT
DTSTART;TZID=America/Los_Angeles:20260307T120000
DTEND;TZID=America/Los_Angeles:20260307T140000
DTSTAMP:20260418T213709
CREATED:20260217T200019Z
LAST-MODIFIED:20260227T193256Z
UID:10001111-1772884800-1772892000@ecotrust.org
SUMMARY:Rooted Resilience: Pollinator Placemaking & Plant Protection
DESCRIPTION:Join us for a fun and educational event\, delving into the world of pollinators and plant protection. Learn how land stewards are re-thinking “pests” and shifting their practices to prioritize soil health\, biodiversity\, and community. \nYou’ll come away knowing: \n\nthe benefits and challenges of “pests”\nsimple and peaceful interventions to manage “pests”\nsoil nourishment tips for urban land stewards\n\nWorkshop instructors: Essence Sartfield\, Alexandria “Zandi” Saleem\, James King Jr.
URL:https://ecotrust.org/event/rooted-resilience-pollinator/
LOCATION:Rockwood Village Garden\, 783 SE 185th Ave\, Portland\, OR
ATTACH;FMTTYPE=image/png:https://ecotrust.org/wp-content/uploads/2026/02/Social-Rooted-Resilience-Management-Stewardship-Conservation-Instagram-Post-45-e1771356818120.png
END:VEVENT
BEGIN:VEVENT
DTSTART;TZID=America/Los_Angeles:20260308T090000
DTEND;TZID=America/Los_Angeles:20260308T103000
DTSTAMP:20260418T213709
CREATED:20250411T190204Z
LAST-MODIFIED:20250411T192346Z
UID:10000783-1772960400-1772965800@ecotrust.org
SUMMARY:Pearl Church | Service
DESCRIPTION:Join on Sunday mornings at 9:00am & 10:30am. \nMeet in the historic Ecotrust building in the Pearl District. Kids & Youth programs are offered at the 10:30am service.
URL:https://ecotrust.org/event/pearl-church-service/2026-03-08/
LOCATION:The Redd on Salmon Street\, 831 SE Salmon Street\, Portland\, OR\, 97214\, United States
ATTACH;FMTTYPE=image/jpeg:https://ecotrust.org/wp-content/uploads/2025/04/PearlChurch_Service_2025.jpg
ORGANIZER;CN="Pearl Church":MAILTO:info@pearlchurch.org
END:VEVENT
BEGIN:VEVENT
DTSTART;TZID=America/Los_Angeles:20260308T160000
DTEND;TZID=America/Los_Angeles:20260308T160000
DTSTAMP:20260418T213709
CREATED:20260226T181108Z
LAST-MODIFIED:20260226T181108Z
UID:10001113-1772985600-1772985600@ecotrust.org
SUMMARY:Among Women
DESCRIPTION:Following the enormous success of last year’s International Women’s Day event\, IM hosts a second annual ‘Among Women’ celebration to honor the courageous\, talented\, and innovative women artists—both past and present—who continue to inspire and transform our world in remarkable ways. This FREE community event is open to all\, and will feature an impressive lineup of local visual and performing artists who will showcase their incredible talent and work. \nSponsored by Kathleen Worley \n“An absolutely beautiful\, memorable\, extraordinary and special event!” – 2025 Attendee
URL:https://ecotrust.org/event/among-women/
LOCATION:Irving Street Studio\, 907 NW Irving St\, Prtland\, OR\, 97209\, United States
ATTACH;FMTTYPE=image/png:https://ecotrust.org/wp-content/uploads/2026/02/Screenshot-2026-02-20-at-4.53.43-PM-e1771635294751.png
ORGANIZER;CN="In Mulieribus":MAILTO:info@inmulieribus.org
END:VEVENT
BEGIN:VEVENT
DTSTART;TZID=America/Los_Angeles:20260308T160000
DTEND;TZID=America/Los_Angeles:20260308T183000
DTSTAMP:20260418T213709
CREATED:20260130T175402Z
LAST-MODIFIED:20260130T175402Z
UID:10001107-1772985600-1772994600@ecotrust.org
SUMMARY:2026 Walla Walla Wine on Tour - Portland Grand Tasting
DESCRIPTION:Explore 40+ Walla Walla Valley wineries\, meet winemakers\, and taste wines from the renowned Walla Walla Valley AVA and beyond! \n2026 WALLA WALLA WINE ON TOUR – PORTLAND GRAND TASTING \nThe Walla Walla Valley wine community is coming back to Portland! Immerse yourself in the vibrant wine culture that defines this renowned region. Connect with passionate winemakers\, mingle with fellow wine enthusiasts\, and enjoy an evening of discovery. Taste new releases\, hear stories from the 2025 harvest\, and deepen your appreciation for Walla Walla Valley wines through side-by-side tastings. \nDATE: Sunday\, March 8\, 2026 \nTIME: 4:00 PM – 6:30 PM (PST) \nLOCATION: The Redd On Salmon\, 831 SE Salmon St\, Portland\, OR \nTICKET PRICE: $100 – your all-access pass to incredible wines\, delicious hors d’oeuvres\, and an unforgettable evening! No tokens – simply choose what you’d like to taste from over 150 wines.
URL:https://ecotrust.org/event/2026-walla-walla-wine-on-tour-portland-grand-tasting/
LOCATION:The Redd on Salmon Street\, 831 SE Salmon Street\, Portland\, OR\, 97214\, United States
ATTACH;FMTTYPE=image/png:https://ecotrust.org/wp-content/uploads/2026/01/Screenshot-2026-01-30-at-9.51.49-AM-e1769795537887.png
ORGANIZER;CN="Walla Walla Valley Wine":MAILTO:info@wallawallawine.com
END:VEVENT
BEGIN:VEVENT
DTSTART;TZID=America/Los_Angeles:20260313T190000
DTEND;TZID=America/Los_Angeles:20260313T190000
DTSTAMP:20260418T213709
CREATED:20260211T233958Z
LAST-MODIFIED:20260211T233958Z
UID:10001110-1773428400-1773428400@ecotrust.org
SUMMARY:Support Ecotrust at the Portland Trail Blazers vs. Utah Jazz game
DESCRIPTION:Ecotrust Employees\, Supporters & Community Members: Join us on March 13 as the Portland Trail Blazers take on the Utah Jazz at the Moda Center! \nA portion of every ticket purchased will be donated directly back to Ecotrust\, making this a great opportunity to enjoy a night of basketball while supporting an organization doing meaningful work in our community. \nWe’d love to see you out at the Moda Center cheering on the Trail Blazers and supporting a great cause. We hope to see you there!
URL:https://ecotrust.org/event/support-ecotrust-at-the-portland-trail-blazers-vs-utah-jazz-game/
LOCATION:Moda Center\, One Center Court Street\, Portland\, 97227\, United States
ATTACH;FMTTYPE=image/png:https://ecotrust.org/wp-content/uploads/2026/02/26-03-13-Trail-Blazers-vs-Jazz-e1771356832415.png
END:VEVENT
BEGIN:VEVENT
DTSTART;TZID=America/Los_Angeles:20260314T120000
DTEND;TZID=America/Los_Angeles:20260314T170000
DTSTAMP:20260418T213709
CREATED:20260130T181811Z
LAST-MODIFIED:20260130T184239Z
UID:10001108-1773489600-1773507600@ecotrust.org
SUMMARY:Brujos Brewing - Aniversario II
DESCRIPTION:Join Brujos Brewing and 60 other breweries from around the world for an afternoon of liturgical libations and liquid spells. \nGeneral Admission Ticket Includes: \n1 – Aniversario II Commemorative Glass \n6 – Drink Tickets (valued at $6.66 each) \n*more drink tickets will be available for purchase if you run out.
URL:https://ecotrust.org/event/brujos-brewing-aniversario-ii/
LOCATION:The Redd on Salmon Street\, 831 SE Salmon Street\, Portland\, OR\, 97214\, United States
ATTACH;FMTTYPE=image/png:https://ecotrust.org/wp-content/uploads/2026/01/Screenshot-2026-01-30-at-10.03.11-AM-e1769796896141.png
END:VEVENT
BEGIN:VEVENT
DTSTART;TZID=America/Los_Angeles:20260315T090000
DTEND;TZID=America/Los_Angeles:20260315T103000
DTSTAMP:20260418T213710
CREATED:20250411T190204Z
LAST-MODIFIED:20250411T192346Z
UID:10000784-1773565200-1773570600@ecotrust.org
SUMMARY:Pearl Church | Service
DESCRIPTION:Join on Sunday mornings at 9:00am & 10:30am. \nMeet in the historic Ecotrust building in the Pearl District. Kids & Youth programs are offered at the 10:30am service.
URL:https://ecotrust.org/event/pearl-church-service/2026-03-15/
LOCATION:The Redd on Salmon Street\, 831 SE Salmon Street\, Portland\, OR\, 97214\, United States
ATTACH;FMTTYPE=image/jpeg:https://ecotrust.org/wp-content/uploads/2025/04/PearlChurch_Service_2025.jpg
ORGANIZER;CN="Pearl Church":MAILTO:info@pearlchurch.org
END:VEVENT
BEGIN:VEVENT
DTSTART;TZID=America/Los_Angeles:20260315T110000
DTEND;TZID=America/Los_Angeles:20260315T140000
DTSTAMP:20260418T213710
CREATED:20260226T003003Z
LAST-MODIFIED:20260226T003040Z
UID:10001114-1773572400-1773583200@ecotrust.org
SUMMARY:CSA Share Fair
DESCRIPTION:Learn all about Community Supported Agriculture\, and your ideal farm with our team of matchmakers.\nJoin CSA Share Fair to: \n\n\n\n\n\n\n\n\nLearn about Community Supported Agriculture\nMeet 45+ local farmers and ranchers\nEngage your kids with fun food activities\nUnlock your Food Citizen Superpowers!\nFind Your Farm with our Matchmakers and sign up for a CSA!\nGet inspired at the cookbook swap
URL:https://ecotrust.org/event/csa-share-fair/
LOCATION:The Redd on Salmon Street\, 831 SE Salmon Street\, Portland\, OR\, 97214\, United States
ATTACH;FMTTYPE=image/png:https://ecotrust.org/wp-content/uploads/2026/02/Screenshot-2026-02-25-at-4.28.46-PM-e1772065753189.png
ORGANIZER;CN="Pacific Northwest Community Supported Agriculture":MAILTO:info@pnwcsa.org
END:VEVENT
BEGIN:VEVENT
DTSTART;TZID=America/Los_Angeles:20260318T080000
DTEND;TZID=America/Los_Angeles:20260318T163000
DTSTAMP:20260418T213710
CREATED:20260211T231505Z
LAST-MODIFIED:20260211T231505Z
UID:10001109-1773820800-1773851400@ecotrust.org
SUMMARY:Reimagine the River: Aligning Efforts for a Vibrant Lower Willamette River
DESCRIPTION:1803 Fund\, Ecotrust\, and Willamette Falls Trust are hosting the inaugural Reimagine the River\, bringing\ntogether organizations who value a healthy river system for a day of listening\, learning\, and connecting.\nReimagine the River is providing a platform to raise awareness\, enhance understanding\, and identify opportunities\nfor collaboration and partnership between the people and organizations working along the Willamette.
URL:https://ecotrust.org/event/reimagine-the-river-aligning-efforts-for-a-vibrant-lower-willamette-river/
LOCATION:The Redd on Salmon Street\, 831 SE Salmon Street\, Portland\, OR\, 97214\, United States
ATTACH;FMTTYPE=image/png:https://ecotrust.org/wp-content/uploads/2026/02/Screenshot-2026-02-11-at-12.44.39-PM-e1770842729707.png
END:VEVENT
BEGIN:VEVENT
DTSTART;TZID=America/Los_Angeles:20260318T110000
DTEND;TZID=America/Los_Angeles:20260318T120000
DTSTAMP:20260418T213710
CREATED:20260227T191147Z
LAST-MODIFIED:20260309T171934Z
UID:10001118-1773831600-1773835200@ecotrust.org
SUMMARY:Indigenous Agroforestry Network Quarterly Webinar: Cultural Fire
DESCRIPTION:Tune in learn more about cultural fire! You’ll hear from tribal practitioners Dr. Frank Lake\, Ryan Reed\, and Monique Wynecoop about how Tribes are using cultural and prescribed fire as vital land management tools in Oregon and Washington. \nThey’ll also address opportunities for growth\, challenges that still need to be solved\, and how other governments\, agencies\, and private landowners can respectively partner with Tribes to support Indigenous-led fire stewardship. \nIndigenous Agroforestry Network’s quarterly webinars are designed to foster connection among agroforestry practitioners\, strengthen relationships\, and increase awareness of programs and services available to Tribes and Indigenous land stewards.
URL:https://ecotrust.org/event/indigenous-agroforestry-network-quarterly-webinar-cultural-fire/
LOCATION:Online
ATTACH;FMTTYPE=image/png:https://ecotrust.org/wp-content/uploads/2026/02/Copy-of-QUARTERLY-WEBINAR-SERIES-7-e1772219497800.png
END:VEVENT
BEGIN:VEVENT
DTSTART;TZID=America/Los_Angeles:20260322T090000
DTEND;TZID=America/Los_Angeles:20260322T103000
DTSTAMP:20260418T213710
CREATED:20250411T190204Z
LAST-MODIFIED:20250411T192346Z
UID:10000785-1774170000-1774175400@ecotrust.org
SUMMARY:Pearl Church | Service
DESCRIPTION:Join on Sunday mornings at 9:00am & 10:30am. \nMeet in the historic Ecotrust building in the Pearl District. Kids & Youth programs are offered at the 10:30am service.
URL:https://ecotrust.org/event/pearl-church-service/2026-03-22/
LOCATION:The Redd on Salmon Street\, 831 SE Salmon Street\, Portland\, OR\, 97214\, United States
ATTACH;FMTTYPE=image/jpeg:https://ecotrust.org/wp-content/uploads/2025/04/PearlChurch_Service_2025.jpg
ORGANIZER;CN="Pearl Church":MAILTO:info@pearlchurch.org
END:VEVENT
BEGIN:VEVENT
DTSTART;TZID=America/Los_Angeles:20260322T150000
DTEND;TZID=America/Los_Angeles:20260322T170000
DTSTAMP:20260418T213710
CREATED:20260309T194327Z
LAST-MODIFIED:20260311T181854Z
UID:10001120-1774191600-1774198800@ecotrust.org
SUMMARY:First Descent: Kayaking the Klamath
DESCRIPTION:Join OPB producer Jessie Sears (Karuk) for the kickoff of their “First Descent: Kayaking the Klamath” film tour. The film follows a group of 28 Indigenous kayakers who paddled the entire 300-mile Klamath River to become the first to descend the free-flowing river after the removal of four dams. \nDETAILS: \n\nProgram at 3 p.m.\nDoors\, food\, and community activities starting at 2 p.m.\n\nSNACKS: Provided by OPB from Javelina Indigenous Catering. \nFILM T-SHIRTS: Limited availability film t-shirts will be available for purchase at this event with artwork by Toma Villa. Your purchase directly supports OPB’s storytelling and journalism. \nTICKETS: \n\nTickets are free but required. 50% of all tickets are saved for our tribal community members.\nWhen selecting a “Tribal Family” ticket\, make sure to provide the promo code at checkout – thank you!\nIf you haven’t received the promo code for tribal community members\, send OPB a note in their contact form. \n\nThis event is part of a series of community screening events happening across Oregon in 2026. Find upcoming screening dates and locations at opb.org/events. \nOn site partners for this event include Native American Youth and Family Center (NAYA)\, Native Arts and Culture Foundation (NACF)\, Portland All Nations Canoe Family\, and Ecotrust
URL:https://ecotrust.org/event/first-descent-kayaking-the-klamath/
LOCATION:The Redd on Salmon Street\, 831 SE Salmon Street\, Portland\, OR\, 97214\, United States
ATTACH;FMTTYPE=image/png:https://ecotrust.org/wp-content/uploads/2026/03/Screenshot-2026-03-09-at-12.42.49-PM-e1773085460826.png
END:VEVENT
BEGIN:VEVENT
DTSTART;TZID=America/Los_Angeles:20260328T110000
DTEND;TZID=America/Los_Angeles:20260328T150000
DTSTAMP:20260418T213710
CREATED:20260309T200221Z
LAST-MODIFIED:20260309T200336Z
UID:10001121-1774695600-1774710000@ecotrust.org
SUMMARY:ReLoved: A Wedding Market
DESCRIPTION:Shop gently used wedding decor\, attire\, and supplies\, sold yard sale style\, and browse local vendors who love DIY and alternative weddings. \nJoin us for a resale market\, perfect for engaged couples planning thoughtful\, creative\, and non-traditional weddings. Think a flea market\, but for weddings. Gently used decor\, attire\, and supplies\, sold directly by the newlyweds who used them for their weddings. We’ll also have a selection of donated items\, and proceeds from those sales will benefit local nonprofits Rose Haven and P48. \nPlus browse local wedding vendors who specialize in DIY and alternative wedding offerings and finish all of your wedding planning in one place! Food\, drink\, and dessert vendors will be on site\, so you can grab lunch\, a sweet treat\, or a tasty beverage while you shop. \nHosted by Grand Gesture Books\, AM Events\, and Bloom Events Portland\, with the generous support of Ecotrust Events.
URL:https://ecotrust.org/event/reloved-a-wedding-market/
LOCATION:The Redd on Salmon Street\, 831 SE Salmon Street\, Portland\, OR\, 97214\, United States
ATTACH;FMTTYPE=image/png:https://ecotrust.org/wp-content/uploads/2026/03/Screenshot-2026-03-09-at-1.01.25-PM-e1773086510347.png
END:VEVENT
BEGIN:VEVENT
DTSTART;TZID=America/Los_Angeles:20260329T090000
DTEND;TZID=America/Los_Angeles:20260329T103000
DTSTAMP:20260418T213710
CREATED:20250411T190204Z
LAST-MODIFIED:20250411T192346Z
UID:10000786-1774774800-1774780200@ecotrust.org
SUMMARY:Pearl Church | Service
DESCRIPTION:Join on Sunday mornings at 9:00am & 10:30am. \nMeet in the historic Ecotrust building in the Pearl District. Kids & Youth programs are offered at the 10:30am service.
URL:https://ecotrust.org/event/pearl-church-service/2026-03-29/
LOCATION:The Redd on Salmon Street\, 831 SE Salmon Street\, Portland\, OR\, 97214\, United States
ATTACH;FMTTYPE=image/jpeg:https://ecotrust.org/wp-content/uploads/2025/04/PearlChurch_Service_2025.jpg
ORGANIZER;CN="Pearl Church":MAILTO:info@pearlchurch.org
END:VEVENT
BEGIN:VEVENT
DTSTART;TZID=America/Los_Angeles:20260329T140000
DTEND;TZID=America/Los_Angeles:20260329T210000
DTSTAMP:20260418T213710
CREATED:20260226T181055Z
LAST-MODIFIED:20260226T181055Z
UID:10001116-1774792800-1774818000@ecotrust.org
SUMMARY:Trans Town PDX 2026
DESCRIPTION:Trans Town is Portland’s biggest Trans Day of Visibility celebration – a full day of trans joy\, trans talent\, and trans economic power. \n\n\n\n\nWe’re throwing the party our community deserves. Trans Town is Portland’s biggest Trans Day of Visibility celebration – a full day of trans joy\, trans talent\, and trans economic power. \n🛍️ 2PM–5PM: Marketplace + resource & mutual aid fair with FREE haircuts\, food demo with Mis Tacones\, adaptive Narcan training with No More Dead Friends\, build your own beaded bouquet with jeweler Ally Lea and MORE! \n🎉 5PM–9PM: Ticketed fundraiser with food\, drinks\, comedy & live music. Co-hosted by funny people Mx. Dahlia Belle and Ally J Ward. \nOne day. All of us. Let’s Bloom.
URL:https://ecotrust.org/event/trans-town-pdx-2026/
LOCATION:The Redd on Salmon Street\, 831 SE Salmon Street\, Portland\, OR\, 97214\, United States
ATTACH;FMTTYPE=image/png:https://ecotrust.org/wp-content/uploads/2026/02/Screenshot-2026-02-25-at-4.18.33-PM-e1772065267764.png
END:VEVENT
BEGIN:VEVENT
DTSTART;TZID=America/Los_Angeles:20260331T090000
DTEND;TZID=America/Los_Angeles:20260331T160000
DTSTAMP:20260418T213710
CREATED:20260311T205317Z
LAST-MODIFIED:20260311T205317Z
UID:10001122-1774947600-1774972800@ecotrust.org
SUMMARY:March: Co-Work with OEN
DESCRIPTION:Entrepreneurship is often a lonely experience\, but it doesn’t have to be. \nExchanging best practices with other founders and entrepreneurs in the same region\, even if you have differing business types\, can provide precious insights. You can learn from their experiences\, pick up new ideas\, and stay up-to-date on industry trends. \nOregon Entrepreneurs Network is partnering with our friends at Miller Nash to host Co-Work with OEN on Tuesday\, March 31st from 9:00 am – 4:00 pm at Willamette University MBA’s Portland Campus. \nMake it your headquarters for the day. Set up your laptop and co-work with other founders in their common spaces\, private room\, and comfy lounge areas.
URL:https://ecotrust.org/event/march-co-work-with-oen/
LOCATION:Willamette University Graduate and Professional Center\, 721 NW 9th Ave Ste 210\, Portland\, OR\, 97209\, United States
ATTACH;FMTTYPE=image/png:https://ecotrust.org/wp-content/uploads/2026/03/Screenshot-2026-03-11-at-10.35.58-AM-e1773250635631.png
ORGANIZER;CN="Oregon Entrepeneurs Network":MAILTO:info@oen.org
END:VEVENT
END:VCALENDAR