BEGIN:VCALENDAR
VERSION:2.0
PRODID:-//Ecotrust - ECPv6.15.15//NONSGML v1.0//EN
CALSCALE:GREGORIAN
METHOD:PUBLISH
X-ORIGINAL-URL:https://ecotrust.org
X-WR-CALDESC:Events for Ecotrust
REFRESH-INTERVAL;VALUE=DURATION:PT1H
X-Robots-Tag:noindex
X-PUBLISHED-TTL:PT1H
BEGIN:VTIMEZONE
TZID:America/Los_Angeles
BEGIN:DAYLIGHT
TZOFFSETFROM:-0800
TZOFFSETTO:-0700
TZNAME:PDT
DTSTART:20270314T100000
END:DAYLIGHT
BEGIN:STANDARD
TZOFFSETFROM:-0700
TZOFFSETTO:-0800
TZNAME:PST
DTSTART:20271107T090000
END:STANDARD
BEGIN:DAYLIGHT
TZOFFSETFROM:-0800
TZOFFSETTO:-0700
TZNAME:PDT
DTSTART:20280312T100000
END:DAYLIGHT
BEGIN:STANDARD
TZOFFSETFROM:-0700
TZOFFSETTO:-0800
TZNAME:PST
DTSTART:20281105T090000
END:STANDARD
BEGIN:DAYLIGHT
TZOFFSETFROM:-0800
TZOFFSETTO:-0700
TZNAME:PDT
DTSTART:20290311T100000
END:DAYLIGHT
BEGIN:STANDARD
TZOFFSETFROM:-0700
TZOFFSETTO:-0800
TZNAME:PST
DTSTART:20291104T090000
END:STANDARD
END:VTIMEZONE
BEGIN:VEVENT
DTSTART;TZID=America/Los_Angeles:20280206T090000
DTEND;TZID=America/Los_Angeles:20280206T103000
DTSTAMP:20260423T172048
CREATED:20250411T190204Z
LAST-MODIFIED:20250411T192346Z
UID:10000883-1833440400-1833445800@ecotrust.org
SUMMARY:Pearl Church | Service
DESCRIPTION:Join on Sunday mornings at 9:00am & 10:30am. \nMeet in the historic Ecotrust building in the Pearl District. Kids & Youth programs are offered at the 10:30am service.
URL:https://ecotrust.org/event/pearl-church-service/2028-02-06/
LOCATION:The Redd on Salmon Street\, 831 SE Salmon Street\, Portland\, OR\, 97214\, United States
ATTACH;FMTTYPE=image/jpeg:https://ecotrust.org/wp-content/uploads/2025/04/PearlChurch_Service_2025.jpg
ORGANIZER;CN="Pearl Church":MAILTO:info@pearlchurch.org
END:VEVENT
BEGIN:VEVENT
DTSTART;TZID=America/Los_Angeles:20280213T090000
DTEND;TZID=America/Los_Angeles:20280213T103000
DTSTAMP:20260423T172048
CREATED:20250411T190204Z
LAST-MODIFIED:20250411T192346Z
UID:10000884-1834045200-1834050600@ecotrust.org
SUMMARY:Pearl Church | Service
DESCRIPTION:Join on Sunday mornings at 9:00am & 10:30am. \nMeet in the historic Ecotrust building in the Pearl District. Kids & Youth programs are offered at the 10:30am service.
URL:https://ecotrust.org/event/pearl-church-service/2028-02-13/
LOCATION:The Redd on Salmon Street\, 831 SE Salmon Street\, Portland\, OR\, 97214\, United States
ATTACH;FMTTYPE=image/jpeg:https://ecotrust.org/wp-content/uploads/2025/04/PearlChurch_Service_2025.jpg
ORGANIZER;CN="Pearl Church":MAILTO:info@pearlchurch.org
END:VEVENT
BEGIN:VEVENT
DTSTART;TZID=America/Los_Angeles:20280220T090000
DTEND;TZID=America/Los_Angeles:20280220T103000
DTSTAMP:20260423T172048
CREATED:20250411T190204Z
LAST-MODIFIED:20250411T192346Z
UID:10000885-1834650000-1834655400@ecotrust.org
SUMMARY:Pearl Church | Service
DESCRIPTION:Join on Sunday mornings at 9:00am & 10:30am. \nMeet in the historic Ecotrust building in the Pearl District. Kids & Youth programs are offered at the 10:30am service.
URL:https://ecotrust.org/event/pearl-church-service/2028-02-20/
LOCATION:The Redd on Salmon Street\, 831 SE Salmon Street\, Portland\, OR\, 97214\, United States
ATTACH;FMTTYPE=image/jpeg:https://ecotrust.org/wp-content/uploads/2025/04/PearlChurch_Service_2025.jpg
ORGANIZER;CN="Pearl Church":MAILTO:info@pearlchurch.org
END:VEVENT
BEGIN:VEVENT
DTSTART;TZID=America/Los_Angeles:20280227T090000
DTEND;TZID=America/Los_Angeles:20280227T103000
DTSTAMP:20260423T172048
CREATED:20250411T190204Z
LAST-MODIFIED:20250411T192346Z
UID:10000886-1835254800-1835260200@ecotrust.org
SUMMARY:Pearl Church | Service
DESCRIPTION:Join on Sunday mornings at 9:00am & 10:30am. \nMeet in the historic Ecotrust building in the Pearl District. Kids & Youth programs are offered at the 10:30am service.
URL:https://ecotrust.org/event/pearl-church-service/2028-02-27/
LOCATION:The Redd on Salmon Street\, 831 SE Salmon Street\, Portland\, OR\, 97214\, United States
ATTACH;FMTTYPE=image/jpeg:https://ecotrust.org/wp-content/uploads/2025/04/PearlChurch_Service_2025.jpg
ORGANIZER;CN="Pearl Church":MAILTO:info@pearlchurch.org
END:VEVENT
END:VCALENDAR