BEGIN:VCALENDAR
VERSION:2.0
PRODID:-//Ecotrust - ECPv6.15.15//NONSGML v1.0//EN
CALSCALE:GREGORIAN
METHOD:PUBLISH
X-WR-CALNAME:Ecotrust
X-ORIGINAL-URL:https://ecotrust.org
X-WR-CALDESC:Events for Ecotrust
REFRESH-INTERVAL;VALUE=DURATION:PT1H
X-Robots-Tag:noindex
X-PUBLISHED-TTL:PT1H
BEGIN:VTIMEZONE
TZID:America/Los_Angeles
BEGIN:DAYLIGHT
TZOFFSETFROM:-0800
TZOFFSETTO:-0700
TZNAME:PDT
DTSTART:20240310T100000
END:DAYLIGHT
BEGIN:STANDARD
TZOFFSETFROM:-0700
TZOFFSETTO:-0800
TZNAME:PST
DTSTART:20241103T090000
END:STANDARD
BEGIN:DAYLIGHT
TZOFFSETFROM:-0800
TZOFFSETTO:-0700
TZNAME:PDT
DTSTART:20250309T100000
END:DAYLIGHT
BEGIN:STANDARD
TZOFFSETFROM:-0700
TZOFFSETTO:-0800
TZNAME:PST
DTSTART:20251102T090000
END:STANDARD
BEGIN:DAYLIGHT
TZOFFSETFROM:-0800
TZOFFSETTO:-0700
TZNAME:PDT
DTSTART:20260308T100000
END:DAYLIGHT
BEGIN:STANDARD
TZOFFSETFROM:-0700
TZOFFSETTO:-0800
TZNAME:PST
DTSTART:20261101T090000
END:STANDARD
END:VTIMEZONE
BEGIN:VEVENT
DTSTART;TZID=America/Los_Angeles:20250927T110000
DTEND;TZID=America/Los_Angeles:20250927T150000
DTSTAMP:20260420T092023
CREATED:20240229T194843Z
LAST-MODIFIED:20250714T050300Z
UID:10000085-1758970800-1758985200@ecotrust.org
SUMMARY:Electrify Portland! Home Electrification Fair
DESCRIPTION:A free\, festive event offering inspiration and practical tips for switching from gas or older electric to efficient\, renewable electric. Get ready to make your home healthier\, more comfy and resilient! \nWhether you’re a homeowner or renter\, Electrify Portland! is your one-stop shop for exploring high-efficiency heat pumps\, heat pump water heaters\, solar\, electric lawn equipment and more—all with the guidance of trusted local contractors who specialize in home electrification. \nJoin us for Electrify Portland! on Saturday\, September 27th\, hosted at the beautiful Redd on Salmon Street. \nVisit ElectrifyPortland.org for more information
URL:https://ecotrust.org/event/electrify-portland-home-electrification-fair/
LOCATION:The Redd on Salmon Street\, 831 SE Salmon Street\, Portland\, OR\, 97214\, United States
END:VEVENT
END:VCALENDAR