BEGIN:VCALENDAR
VERSION:2.0
PRODID:-//Ecotrust - ECPv6.15.15//NONSGML v1.0//EN
CALSCALE:GREGORIAN
METHOD:PUBLISH
X-ORIGINAL-URL:https://ecotrust.org
X-WR-CALDESC:Events for Ecotrust
REFRESH-INTERVAL;VALUE=DURATION:PT1H
X-Robots-Tag:noindex
X-PUBLISHED-TTL:PT1H
BEGIN:VTIMEZONE
TZID:America/Los_Angeles
BEGIN:DAYLIGHT
TZOFFSETFROM:-0800
TZOFFSETTO:-0700
TZNAME:PDT
DTSTART:20250309T100000
END:DAYLIGHT
BEGIN:STANDARD
TZOFFSETFROM:-0700
TZOFFSETTO:-0800
TZNAME:PST
DTSTART:20251102T090000
END:STANDARD
BEGIN:DAYLIGHT
TZOFFSETFROM:-0800
TZOFFSETTO:-0700
TZNAME:PDT
DTSTART:20260308T100000
END:DAYLIGHT
BEGIN:STANDARD
TZOFFSETFROM:-0700
TZOFFSETTO:-0800
TZNAME:PST
DTSTART:20261101T090000
END:STANDARD
BEGIN:DAYLIGHT
TZOFFSETFROM:-0800
TZOFFSETTO:-0700
TZNAME:PDT
DTSTART:20270314T100000
END:DAYLIGHT
BEGIN:STANDARD
TZOFFSETFROM:-0700
TZOFFSETTO:-0800
TZNAME:PST
DTSTART:20271107T090000
END:STANDARD
END:VTIMEZONE
BEGIN:VEVENT
DTSTART;TZID=America/Los_Angeles:20260123T130000
DTEND;TZID=America/Los_Angeles:20260123T143000
DTSTAMP:20260420T043324
CREATED:20260108T000433Z
LAST-MODIFIED:20260108T000512Z
UID:10001102-1769173200-1769178600@ecotrust.org
SUMMARY:Oregon Mariculture Network: Quarterly Virtual Meeting
DESCRIPTION:Are you interested in mariculture on the Oregon Coast? Join us on January 23 for the first virtual meeting of the Oregon Mariculture Network. Hosted by Oregon Sea Grant\, Oregon Aquaculture Association\, and Ecotrust\, the Network brings together growers\, Tribes\, scientists\, agencies and others engaged in Oregon’s mariculture sector. \nThis meeting will take place via Zoom. \nEmail soneill@ecotrust.org or alex.marquardt@oregonstate.edu with questions.
URL:https://ecotrust.org/event/oregon-mariculture-network-quarterly-virtual-meeting/
LOCATION:Online
END:VEVENT
END:VCALENDAR