BEGIN:VCALENDAR
VERSION:2.0
PRODID:-//Ecotrust - ECPv6.15.15//NONSGML v1.0//EN
CALSCALE:GREGORIAN
METHOD:PUBLISH
X-WR-CALNAME:Ecotrust
X-ORIGINAL-URL:https://ecotrust.org
X-WR-CALDESC:Events for Ecotrust
REFRESH-INTERVAL;VALUE=DURATION:PT1H
X-Robots-Tag:noindex
X-PUBLISHED-TTL:PT1H
BEGIN:VTIMEZONE
TZID:America/Los_Angeles
BEGIN:DAYLIGHT
TZOFFSETFROM:-0800
TZOFFSETTO:-0700
TZNAME:PDT
DTSTART:20240310T100000
END:DAYLIGHT
BEGIN:STANDARD
TZOFFSETFROM:-0700
TZOFFSETTO:-0800
TZNAME:PST
DTSTART:20241103T090000
END:STANDARD
BEGIN:DAYLIGHT
TZOFFSETFROM:-0800
TZOFFSETTO:-0700
TZNAME:PDT
DTSTART:20250309T100000
END:DAYLIGHT
BEGIN:STANDARD
TZOFFSETFROM:-0700
TZOFFSETTO:-0800
TZNAME:PST
DTSTART:20251102T090000
END:STANDARD
BEGIN:DAYLIGHT
TZOFFSETFROM:-0800
TZOFFSETTO:-0700
TZNAME:PDT
DTSTART:20260308T100000
END:DAYLIGHT
BEGIN:STANDARD
TZOFFSETFROM:-0700
TZOFFSETTO:-0800
TZNAME:PST
DTSTART:20261101T090000
END:STANDARD
END:VTIMEZONE
BEGIN:VEVENT
DTSTART;TZID=America/Los_Angeles:20251010T173000
DTEND;TZID=America/Los_Angeles:20251010T210000
DTSTAMP:20260422T071936
CREATED:20250922T223023Z
LAST-MODIFIED:20250924T204342Z
UID:10001079-1760117400-1760130000@ecotrust.org
SUMMARY:Call of the Wild | Oregon Wild
DESCRIPTION:Raise your glass\, raise your voice\, and help raise critical funds for Oregon’s wild places! This year’s event will be a spirited celebration of the wildlands and wildlife that unite and inspire\, because joy and fun are powerful forms of resistance and fuel for a movement! \nCall of the Wild is a memorable evening of celebration\, honoring Oregon Wild’s achievements and the incredible community that makes this work possible! Thanks to your steadfast support\, Oregon Wild is holding strong against the litany of threats putting our forests\, rivers\, and wildlife at risk. With the need greater than ever\, Oregon Wild is defending the last of our old-growth forests\, working to stop the privatizing of public lands\, and defending bedrock environmental laws like the Endangered Species Act.
URL:https://ecotrust.org/event/call-of-the-wild-oregon-wild/
LOCATION:The Redd on Salmon Street\, 831 SE Salmon Street\, Portland\, OR\, 97214\, United States
END:VEVENT
END:VCALENDAR