BEGIN:VCALENDAR
VERSION:2.0
PRODID:-//Ecotrust - ECPv6.15.15//NONSGML v1.0//EN
CALSCALE:GREGORIAN
METHOD:PUBLISH
X-WR-CALNAME:Ecotrust
X-ORIGINAL-URL:https://ecotrust.org
X-WR-CALDESC:Events for Ecotrust
REFRESH-INTERVAL;VALUE=DURATION:PT1H
X-Robots-Tag:noindex
X-PUBLISHED-TTL:PT1H
BEGIN:VTIMEZONE
TZID:America/Los_Angeles
BEGIN:DAYLIGHT
TZOFFSETFROM:-0800
TZOFFSETTO:-0700
TZNAME:PDT
DTSTART:20240310T100000
END:DAYLIGHT
BEGIN:STANDARD
TZOFFSETFROM:-0700
TZOFFSETTO:-0800
TZNAME:PST
DTSTART:20241103T090000
END:STANDARD
BEGIN:DAYLIGHT
TZOFFSETFROM:-0800
TZOFFSETTO:-0700
TZNAME:PDT
DTSTART:20250309T100000
END:DAYLIGHT
BEGIN:STANDARD
TZOFFSETFROM:-0700
TZOFFSETTO:-0800
TZNAME:PST
DTSTART:20251102T090000
END:STANDARD
BEGIN:DAYLIGHT
TZOFFSETFROM:-0800
TZOFFSETTO:-0700
TZNAME:PDT
DTSTART:20260308T100000
END:DAYLIGHT
BEGIN:STANDARD
TZOFFSETFROM:-0700
TZOFFSETTO:-0800
TZNAME:PST
DTSTART:20261101T090000
END:STANDARD
END:VTIMEZONE
BEGIN:VEVENT
DTSTART;TZID=America/Los_Angeles:20250329T083000
DTEND;TZID=America/Los_Angeles:20250330T160000
DTSTAMP:20260420T092722
CREATED:20250226T221209Z
LAST-MODIFIED:20250227T235510Z
UID:10000416-1743237000-1743350400@ecotrust.org
SUMMARY:2025 Gathering of Native Weavers
DESCRIPTION:Announcing the Gathering of Native Weavers in Portland Oregon. \nCome weave at a two day event at The Redd event center. Doors open at 8:30 am and weaving starts at 9:00 am. Come learn from Amazing Master Weavers. \nKit fees are to be paid directly to the Master Weavers. \nThere is free parking in the lot attached to the Redd. Additional parking is available on the street.
URL:https://ecotrust.org/event/2025-gathering-of-native-weavers/
LOCATION:The Redd on Salmon Street\, 831 SE Salmon Street\, Portland\, OR\, 97214\, United States
ATTACH;FMTTYPE=image/jpeg:https://ecotrust.org/wp-content/uploads/2025/02/2025_Gathering-of_Native_Weavers.jpg
END:VEVENT
END:VCALENDAR