BEGIN:VCALENDAR
VERSION:2.0
PRODID:-//Ecotrust - ECPv6.15.15//NONSGML v1.0//EN
CALSCALE:GREGORIAN
METHOD:PUBLISH
X-ORIGINAL-URL:https://ecotrust.org
X-WR-CALDESC:Events for Ecotrust
REFRESH-INTERVAL;VALUE=DURATION:PT1H
X-Robots-Tag:noindex
X-PUBLISHED-TTL:PT1H
BEGIN:VTIMEZONE
TZID:America/Los_Angeles
BEGIN:DAYLIGHT
TZOFFSETFROM:-0800
TZOFFSETTO:-0700
TZNAME:PDT
DTSTART:20240310T100000
END:DAYLIGHT
BEGIN:STANDARD
TZOFFSETFROM:-0700
TZOFFSETTO:-0800
TZNAME:PST
DTSTART:20241103T090000
END:STANDARD
BEGIN:DAYLIGHT
TZOFFSETFROM:-0800
TZOFFSETTO:-0700
TZNAME:PDT
DTSTART:20250309T100000
END:DAYLIGHT
BEGIN:STANDARD
TZOFFSETFROM:-0700
TZOFFSETTO:-0800
TZNAME:PST
DTSTART:20251102T090000
END:STANDARD
BEGIN:DAYLIGHT
TZOFFSETFROM:-0800
TZOFFSETTO:-0700
TZNAME:PDT
DTSTART:20260308T100000
END:DAYLIGHT
BEGIN:STANDARD
TZOFFSETFROM:-0700
TZOFFSETTO:-0800
TZNAME:PST
DTSTART:20261101T090000
END:STANDARD
END:VTIMEZONE
BEGIN:VEVENT
DTSTART;TZID=America/Los_Angeles:20250424T140000
DTEND;TZID=America/Los_Angeles:20250424T180000
DTSTAMP:20260422T193756
CREATED:20250418T173318Z
LAST-MODIFIED:20250418T173502Z
UID:10000999-1745503200-1745517600@ecotrust.org
SUMMARY:Public Werks! | LGBTQIA2S+ Public Sector Career Fair
DESCRIPTION:Welcome to Public Werks! LGBTQIA2S+ Public Sector Career Fair! Join for a day of networking\, job opportunities from internships\, trades\, seasonal work\, finance\, engineering\, environmental\, the arts\, or diversity\, equity\, and inclusion – there’s a place for you at a regional public organization. \nWhether you need a job now or want options for the future\, join us! \n\nFree to attend\nFree clothing closet available\nFree headshots\nSign up for a resume review or mock interview\nOther personal and professional resources\n\nIrving Street Studios – 907 NW Irving St\, Portland\, OR 97209 \nExhibitors include: City of Portland\, Metro\, Multnomah County\, TriMet\, Oregon Department of Transportation\, Department of Environmental Quality\, City of Beaverton\, Washington County\, Port of Portland\, City of Beaverton\, and more!
URL:https://ecotrust.org/event/public-werks-lgbtqia2s-public-sector-career-fair/
LOCATION:Natural Capital Center\, 721 NW 9th Ave\, Portland
END:VEVENT
END:VCALENDAR