BEGIN:VCALENDAR
VERSION:2.0
PRODID:-//Ecotrust - ECPv6.15.15//NONSGML v1.0//EN
CALSCALE:GREGORIAN
METHOD:PUBLISH
X-WR-CALNAME:Ecotrust
X-ORIGINAL-URL:https://ecotrust.org
X-WR-CALDESC:Events for Ecotrust
REFRESH-INTERVAL;VALUE=DURATION:PT1H
X-Robots-Tag:noindex
X-PUBLISHED-TTL:PT1H
BEGIN:VTIMEZONE
TZID:America/Los_Angeles
BEGIN:DAYLIGHT
TZOFFSETFROM:-0800
TZOFFSETTO:-0700
TZNAME:PDT
DTSTART:20250309T100000
END:DAYLIGHT
BEGIN:STANDARD
TZOFFSETFROM:-0700
TZOFFSETTO:-0800
TZNAME:PST
DTSTART:20251102T090000
END:STANDARD
BEGIN:DAYLIGHT
TZOFFSETFROM:-0800
TZOFFSETTO:-0700
TZNAME:PDT
DTSTART:20260308T100000
END:DAYLIGHT
BEGIN:STANDARD
TZOFFSETFROM:-0700
TZOFFSETTO:-0800
TZNAME:PST
DTSTART:20261101T090000
END:STANDARD
BEGIN:DAYLIGHT
TZOFFSETFROM:-0800
TZOFFSETTO:-0700
TZNAME:PDT
DTSTART:20270314T100000
END:DAYLIGHT
BEGIN:STANDARD
TZOFFSETFROM:-0700
TZOFFSETTO:-0800
TZNAME:PST
DTSTART:20271107T090000
END:STANDARD
END:VTIMEZONE
BEGIN:VEVENT
DTSTART;TZID=America/Los_Angeles:20260419T090000
DTEND;TZID=America/Los_Angeles:20260419T103000
DTSTAMP:20260417T193724
CREATED:20250411T190204Z
LAST-MODIFIED:20250411T192346Z
UID:10000789-1776589200-1776594600@ecotrust.org
SUMMARY:Pearl Church | Service
DESCRIPTION:Join on Sunday mornings at 9:00am & 10:30am. \nMeet in the historic Ecotrust building in the Pearl District. Kids & Youth programs are offered at the 10:30am service.
URL:https://ecotrust.org/event/pearl-church-service/2026-04-19/
LOCATION:The Redd on Salmon Street\, 831 SE Salmon Street\, Portland\, OR\, 97214\, United States
ATTACH;FMTTYPE=image/jpeg:https://ecotrust.org/wp-content/uploads/2025/04/PearlChurch_Service_2025.jpg
ORGANIZER;CN="Pearl Church":MAILTO:info@pearlchurch.org
END:VEVENT
BEGIN:VEVENT
DTSTART;TZID=America/Los_Angeles:20260424T143000
DTEND;TZID=America/Los_Angeles:20260424T193000
DTSTAMP:20260417T193724
CREATED:20260311T204958Z
LAST-MODIFIED:20260311T204958Z
UID:10001124-1777041000-1777059000@ecotrust.org
SUMMARY:Grassroots to the Grid: Documentary Premiere
DESCRIPTION:See how grassroots efforts challenge systems\, shape policy\, and build lasting change. \nLocal nonprofit Community Energy Project premieres Grassroots to the Grid\, a documentary spotlighting the neighbors and advocates driving clean energy and climate action across the city. See how grassroots efforts challenge systems\, shape policy\, and build lasting change. \nWe believe cost should never be a barrier to community and climate action. For this event\, we’re offering sliding-scale tickets to help ensure everyone can attend while sustaining CEP’s work. Choose the option that feels right for you. \nEvent schedule:\n2:30pm – Community Resource Fair: Meet our partners\, local businesses\, and enjoy delicious dishes from a variety of food truck vendors.\n5:30pm – Documentary screening begins\n6:15pm – Panel Discussion\n6:45pm – Audience Q&A\n7:30pm – Event closes\nPlease note: Ticket sales end at 4pm on April 24th. Tickets can still be purchased at the door.
URL:https://ecotrust.org/event/grassroots-to-the-grid-documentary-premiere/
LOCATION:The Redd on Salmon Street\, 831 SE Salmon Street\, Portland\, OR\, 97214\, United States
ATTACH;FMTTYPE=image/png:https://ecotrust.org/wp-content/uploads/2026/03/Screenshot-2026-03-11-at-11.03.52-AM-e1773252858632.png
ORGANIZER;CN="Community Energy Project":MAILTO:hello@communityenergyproject.org
END:VEVENT
BEGIN:VEVENT
DTSTART;TZID=America/Los_Angeles:20260426T090000
DTEND;TZID=America/Los_Angeles:20260426T103000
DTSTAMP:20260417T193724
CREATED:20250411T190204Z
LAST-MODIFIED:20250411T192346Z
UID:10000790-1777194000-1777199400@ecotrust.org
SUMMARY:Pearl Church | Service
DESCRIPTION:Join on Sunday mornings at 9:00am & 10:30am. \nMeet in the historic Ecotrust building in the Pearl District. Kids & Youth programs are offered at the 10:30am service.
URL:https://ecotrust.org/event/pearl-church-service/2026-04-26/
LOCATION:The Redd on Salmon Street\, 831 SE Salmon Street\, Portland\, OR\, 97214\, United States
ATTACH;FMTTYPE=image/jpeg:https://ecotrust.org/wp-content/uploads/2025/04/PearlChurch_Service_2025.jpg
ORGANIZER;CN="Pearl Church":MAILTO:info@pearlchurch.org
END:VEVENT
BEGIN:VEVENT
DTSTART;TZID=America/Los_Angeles:20260426T110000
DTEND;TZID=America/Los_Angeles:20260426T160000
DTSTAMP:20260417T193724
CREATED:20260311T204548Z
LAST-MODIFIED:20260311T204829Z
UID:10001125-1777201200-1777219200@ecotrust.org
SUMMARY:Portland Flea
DESCRIPTION:A gathering place for the creators\, curators\, and collectors. \nFIND PORTLAND FLEA THE LAST SUNDAY OF THE MONTH – APRIL – OCTOBER\n+ a very special Holiday EVENT In November \n11AM – 4PM . Rain or SHINE \nWHAT YOU’LL FIND AT THE FLEA:\nACCESSORIES | CLOTHING | VINTAGE | HOME GOODS | FOOD & DRINK
URL:https://ecotrust.org/event/portland-flea/2026-04-26/
LOCATION:The Redd on Salmon Street\, 831 SE Salmon Street\, Portland\, OR\, 97214\, United States
ATTACH;FMTTYPE=image/png:https://ecotrust.org/wp-content/uploads/2026/03/Screenshot-2026-03-11-at-11.29.04-AM-e1773253792531-1.png
END:VEVENT
BEGIN:VEVENT
DTSTART;TZID=America/Los_Angeles:20260503T090000
DTEND;TZID=America/Los_Angeles:20260503T103000
DTSTAMP:20260417T193724
CREATED:20250411T190204Z
LAST-MODIFIED:20250411T192346Z
UID:10000791-1777798800-1777804200@ecotrust.org
SUMMARY:Pearl Church | Service
DESCRIPTION:Join on Sunday mornings at 9:00am & 10:30am. \nMeet in the historic Ecotrust building in the Pearl District. Kids & Youth programs are offered at the 10:30am service.
URL:https://ecotrust.org/event/pearl-church-service/2026-05-03/
LOCATION:The Redd on Salmon Street\, 831 SE Salmon Street\, Portland\, OR\, 97214\, United States
ATTACH;FMTTYPE=image/jpeg:https://ecotrust.org/wp-content/uploads/2025/04/PearlChurch_Service_2025.jpg
ORGANIZER;CN="Pearl Church":MAILTO:info@pearlchurch.org
END:VEVENT
BEGIN:VEVENT
DTSTART;TZID=America/Los_Angeles:20260510T090000
DTEND;TZID=America/Los_Angeles:20260510T103000
DTSTAMP:20260417T193724
CREATED:20250411T190204Z
LAST-MODIFIED:20250411T192346Z
UID:10000792-1778403600-1778409000@ecotrust.org
SUMMARY:Pearl Church | Service
DESCRIPTION:Join on Sunday mornings at 9:00am & 10:30am. \nMeet in the historic Ecotrust building in the Pearl District. Kids & Youth programs are offered at the 10:30am service.
URL:https://ecotrust.org/event/pearl-church-service/2026-05-10/
LOCATION:The Redd on Salmon Street\, 831 SE Salmon Street\, Portland\, OR\, 97214\, United States
ATTACH;FMTTYPE=image/jpeg:https://ecotrust.org/wp-content/uploads/2025/04/PearlChurch_Service_2025.jpg
ORGANIZER;CN="Pearl Church":MAILTO:info@pearlchurch.org
END:VEVENT
BEGIN:VEVENT
DTSTART;TZID=America/Los_Angeles:20260517T090000
DTEND;TZID=America/Los_Angeles:20260517T103000
DTSTAMP:20260417T193725
CREATED:20250411T190204Z
LAST-MODIFIED:20250411T192346Z
UID:10000793-1779008400-1779013800@ecotrust.org
SUMMARY:Pearl Church | Service
DESCRIPTION:Join on Sunday mornings at 9:00am & 10:30am. \nMeet in the historic Ecotrust building in the Pearl District. Kids & Youth programs are offered at the 10:30am service.
URL:https://ecotrust.org/event/pearl-church-service/2026-05-17/
LOCATION:The Redd on Salmon Street\, 831 SE Salmon Street\, Portland\, OR\, 97214\, United States
ATTACH;FMTTYPE=image/jpeg:https://ecotrust.org/wp-content/uploads/2025/04/PearlChurch_Service_2025.jpg
ORGANIZER;CN="Pearl Church":MAILTO:info@pearlchurch.org
END:VEVENT
BEGIN:VEVENT
DTSTART;TZID=America/Los_Angeles:20260524T090000
DTEND;TZID=America/Los_Angeles:20260524T103000
DTSTAMP:20260417T193725
CREATED:20250411T190204Z
LAST-MODIFIED:20250411T192346Z
UID:10000794-1779613200-1779618600@ecotrust.org
SUMMARY:Pearl Church | Service
DESCRIPTION:Join on Sunday mornings at 9:00am & 10:30am. \nMeet in the historic Ecotrust building in the Pearl District. Kids & Youth programs are offered at the 10:30am service.
URL:https://ecotrust.org/event/pearl-church-service/2026-05-24/
LOCATION:The Redd on Salmon Street\, 831 SE Salmon Street\, Portland\, OR\, 97214\, United States
ATTACH;FMTTYPE=image/jpeg:https://ecotrust.org/wp-content/uploads/2025/04/PearlChurch_Service_2025.jpg
ORGANIZER;CN="Pearl Church":MAILTO:info@pearlchurch.org
END:VEVENT
BEGIN:VEVENT
DTSTART;TZID=America/Los_Angeles:20260531T090000
DTEND;TZID=America/Los_Angeles:20260531T103000
DTSTAMP:20260417T193725
CREATED:20250411T190204Z
LAST-MODIFIED:20250411T192346Z
UID:10000795-1780218000-1780223400@ecotrust.org
SUMMARY:Pearl Church | Service
DESCRIPTION:Join on Sunday mornings at 9:00am & 10:30am. \nMeet in the historic Ecotrust building in the Pearl District. Kids & Youth programs are offered at the 10:30am service.
URL:https://ecotrust.org/event/pearl-church-service/2026-05-31/
LOCATION:The Redd on Salmon Street\, 831 SE Salmon Street\, Portland\, OR\, 97214\, United States
ATTACH;FMTTYPE=image/jpeg:https://ecotrust.org/wp-content/uploads/2025/04/PearlChurch_Service_2025.jpg
ORGANIZER;CN="Pearl Church":MAILTO:info@pearlchurch.org
END:VEVENT
BEGIN:VEVENT
DTSTART;TZID=America/Los_Angeles:20260531T110000
DTEND;TZID=America/Los_Angeles:20260531T160000
DTSTAMP:20260417T193725
CREATED:20260311T204548Z
LAST-MODIFIED:20260311T204829Z
UID:10001126-1780225200-1780243200@ecotrust.org
SUMMARY:Portland Flea
DESCRIPTION:A gathering place for the creators\, curators\, and collectors. \nFIND PORTLAND FLEA THE LAST SUNDAY OF THE MONTH – APRIL – OCTOBER\n+ a very special Holiday EVENT In November \n11AM – 4PM . Rain or SHINE \nWHAT YOU’LL FIND AT THE FLEA:\nACCESSORIES | CLOTHING | VINTAGE | HOME GOODS | FOOD & DRINK
URL:https://ecotrust.org/event/portland-flea/2026-05-31/
LOCATION:The Redd on Salmon Street\, 831 SE Salmon Street\, Portland\, OR\, 97214\, United States
ATTACH;FMTTYPE=image/png:https://ecotrust.org/wp-content/uploads/2026/03/Screenshot-2026-03-11-at-11.29.04-AM-e1773253792531-1.png
END:VEVENT
BEGIN:VEVENT
DTSTART;TZID=America/Los_Angeles:20260607T090000
DTEND;TZID=America/Los_Angeles:20260607T103000
DTSTAMP:20260417T193725
CREATED:20250411T190204Z
LAST-MODIFIED:20250411T192346Z
UID:10000796-1780822800-1780828200@ecotrust.org
SUMMARY:Pearl Church | Service
DESCRIPTION:Join on Sunday mornings at 9:00am & 10:30am. \nMeet in the historic Ecotrust building in the Pearl District. Kids & Youth programs are offered at the 10:30am service.
URL:https://ecotrust.org/event/pearl-church-service/2026-06-07/
LOCATION:The Redd on Salmon Street\, 831 SE Salmon Street\, Portland\, OR\, 97214\, United States
ATTACH;FMTTYPE=image/jpeg:https://ecotrust.org/wp-content/uploads/2025/04/PearlChurch_Service_2025.jpg
ORGANIZER;CN="Pearl Church":MAILTO:info@pearlchurch.org
END:VEVENT
BEGIN:VEVENT
DTSTART;TZID=America/Los_Angeles:20260614T090000
DTEND;TZID=America/Los_Angeles:20260614T103000
DTSTAMP:20260417T193725
CREATED:20250411T190204Z
LAST-MODIFIED:20250411T192346Z
UID:10000797-1781427600-1781433000@ecotrust.org
SUMMARY:Pearl Church | Service
DESCRIPTION:Join on Sunday mornings at 9:00am & 10:30am. \nMeet in the historic Ecotrust building in the Pearl District. Kids & Youth programs are offered at the 10:30am service.
URL:https://ecotrust.org/event/pearl-church-service/2026-06-14/
LOCATION:The Redd on Salmon Street\, 831 SE Salmon Street\, Portland\, OR\, 97214\, United States
ATTACH;FMTTYPE=image/jpeg:https://ecotrust.org/wp-content/uploads/2025/04/PearlChurch_Service_2025.jpg
ORGANIZER;CN="Pearl Church":MAILTO:info@pearlchurch.org
END:VEVENT
BEGIN:VEVENT
DTSTART;TZID=America/Los_Angeles:20260621T090000
DTEND;TZID=America/Los_Angeles:20260621T103000
DTSTAMP:20260417T193725
CREATED:20250411T190204Z
LAST-MODIFIED:20250411T192346Z
UID:10000798-1782032400-1782037800@ecotrust.org
SUMMARY:Pearl Church | Service
DESCRIPTION:Join on Sunday mornings at 9:00am & 10:30am. \nMeet in the historic Ecotrust building in the Pearl District. Kids & Youth programs are offered at the 10:30am service.
URL:https://ecotrust.org/event/pearl-church-service/2026-06-21/
LOCATION:The Redd on Salmon Street\, 831 SE Salmon Street\, Portland\, OR\, 97214\, United States
ATTACH;FMTTYPE=image/jpeg:https://ecotrust.org/wp-content/uploads/2025/04/PearlChurch_Service_2025.jpg
ORGANIZER;CN="Pearl Church":MAILTO:info@pearlchurch.org
END:VEVENT
BEGIN:VEVENT
DTSTART;TZID=America/Los_Angeles:20260628T090000
DTEND;TZID=America/Los_Angeles:20260628T103000
DTSTAMP:20260417T193725
CREATED:20250411T190204Z
LAST-MODIFIED:20250411T192346Z
UID:10000799-1782637200-1782642600@ecotrust.org
SUMMARY:Pearl Church | Service
DESCRIPTION:Join on Sunday mornings at 9:00am & 10:30am. \nMeet in the historic Ecotrust building in the Pearl District. Kids & Youth programs are offered at the 10:30am service.
URL:https://ecotrust.org/event/pearl-church-service/2026-06-28/
LOCATION:The Redd on Salmon Street\, 831 SE Salmon Street\, Portland\, OR\, 97214\, United States
ATTACH;FMTTYPE=image/jpeg:https://ecotrust.org/wp-content/uploads/2025/04/PearlChurch_Service_2025.jpg
ORGANIZER;CN="Pearl Church":MAILTO:info@pearlchurch.org
END:VEVENT
BEGIN:VEVENT
DTSTART;TZID=America/Los_Angeles:20260628T110000
DTEND;TZID=America/Los_Angeles:20260628T160000
DTSTAMP:20260417T193725
CREATED:20260311T204548Z
LAST-MODIFIED:20260311T204829Z
UID:10001127-1782644400-1782662400@ecotrust.org
SUMMARY:Portland Flea
DESCRIPTION:A gathering place for the creators\, curators\, and collectors. \nFIND PORTLAND FLEA THE LAST SUNDAY OF THE MONTH – APRIL – OCTOBER\n+ a very special Holiday EVENT In November \n11AM – 4PM . Rain or SHINE \nWHAT YOU’LL FIND AT THE FLEA:\nACCESSORIES | CLOTHING | VINTAGE | HOME GOODS | FOOD & DRINK
URL:https://ecotrust.org/event/portland-flea/2026-06-28/
LOCATION:The Redd on Salmon Street\, 831 SE Salmon Street\, Portland\, OR\, 97214\, United States
ATTACH;FMTTYPE=image/png:https://ecotrust.org/wp-content/uploads/2026/03/Screenshot-2026-03-11-at-11.29.04-AM-e1773253792531-1.png
END:VEVENT
BEGIN:VEVENT
DTSTART;TZID=America/Los_Angeles:20260705T090000
DTEND;TZID=America/Los_Angeles:20260705T103000
DTSTAMP:20260417T193725
CREATED:20250411T190204Z
LAST-MODIFIED:20250411T192346Z
UID:10000800-1783242000-1783247400@ecotrust.org
SUMMARY:Pearl Church | Service
DESCRIPTION:Join on Sunday mornings at 9:00am & 10:30am. \nMeet in the historic Ecotrust building in the Pearl District. Kids & Youth programs are offered at the 10:30am service.
URL:https://ecotrust.org/event/pearl-church-service/2026-07-05/
LOCATION:The Redd on Salmon Street\, 831 SE Salmon Street\, Portland\, OR\, 97214\, United States
ATTACH;FMTTYPE=image/jpeg:https://ecotrust.org/wp-content/uploads/2025/04/PearlChurch_Service_2025.jpg
ORGANIZER;CN="Pearl Church":MAILTO:info@pearlchurch.org
END:VEVENT
BEGIN:VEVENT
DTSTART;TZID=America/Los_Angeles:20260712T090000
DTEND;TZID=America/Los_Angeles:20260712T103000
DTSTAMP:20260417T193725
CREATED:20250411T190204Z
LAST-MODIFIED:20250411T192346Z
UID:10000801-1783846800-1783852200@ecotrust.org
SUMMARY:Pearl Church | Service
DESCRIPTION:Join on Sunday mornings at 9:00am & 10:30am. \nMeet in the historic Ecotrust building in the Pearl District. Kids & Youth programs are offered at the 10:30am service.
URL:https://ecotrust.org/event/pearl-church-service/2026-07-12/
LOCATION:The Redd on Salmon Street\, 831 SE Salmon Street\, Portland\, OR\, 97214\, United States
ATTACH;FMTTYPE=image/jpeg:https://ecotrust.org/wp-content/uploads/2025/04/PearlChurch_Service_2025.jpg
ORGANIZER;CN="Pearl Church":MAILTO:info@pearlchurch.org
END:VEVENT
BEGIN:VEVENT
DTSTART;TZID=America/Los_Angeles:20260718T130000
DTEND;TZID=America/Los_Angeles:20260718T200000
DTSTAMP:20260417T193725
CREATED:20260226T003133Z
LAST-MODIFIED:20260311T204325Z
UID:10001117-1784379600-1784404800@ecotrust.org
SUMMARY:Fuji to Hood: Japan/Oregon Collaboration Festival
DESCRIPTION:Fuji to Hood: Japan/Oregon collaboration festival was founded in Portland in 2018 to create cross-cultural bonds and lifelong friendships and takes place every other year in Tokyo. The festival partners 25 breweries and cidermakers from Oregon with 25 from Japan to create original beverages each using atleast one special ingredient from their country. In the past this has created beers made with seaweed\, koji\, purple potatoes\, sansho pepper\, kuromoji wood\, matcha\, yuzu citrus and much much more. \nBut Fuji to Hood is much more than a drinks festival! They also host Japanese performers from DJ’s to traditional dance\, Taiko drummers\, and Kendo martial arts. A wide range of Japanese food and drinks are featured from sushi and ramen to imported snacks\, desserts\, baked goods\, rolls\, ice cream\, tea\, coffee\, and sake and spirits. Throughout it all are local Japanese artists and vendors setting up a pop-up marketplace with goods like woodblock prints\, handmade kimono\, shirts and dresses\, pottery\, glassware\, even Japanese cutlery! \nFuji to Hood is an indoor and outdoor festival held at The Redd on Salmon events venue as an all-ages venue for culture and entertainment. The festival is FREE to enter but admission is required to indulge in the exclusively made Japanese/Oregon collaboration beverages.
URL:https://ecotrust.org/event/fuji-to-hood-japan-oregon-collaboration-festival/
LOCATION:The Redd on Salmon Street\, 831 SE Salmon Street\, Portland\, OR\, 97214\, United States
ATTACH;FMTTYPE=image/png:https://ecotrust.org/wp-content/uploads/2026/02/Screenshot-2026-02-20-at-6.03.07-PM-e1771639416189.png
END:VEVENT
BEGIN:VEVENT
DTSTART;TZID=America/Los_Angeles:20260719T090000
DTEND;TZID=America/Los_Angeles:20260719T103000
DTSTAMP:20260417T193725
CREATED:20250411T190204Z
LAST-MODIFIED:20250411T192346Z
UID:10000802-1784451600-1784457000@ecotrust.org
SUMMARY:Pearl Church | Service
DESCRIPTION:Join on Sunday mornings at 9:00am & 10:30am. \nMeet in the historic Ecotrust building in the Pearl District. Kids & Youth programs are offered at the 10:30am service.
URL:https://ecotrust.org/event/pearl-church-service/2026-07-19/
LOCATION:The Redd on Salmon Street\, 831 SE Salmon Street\, Portland\, OR\, 97214\, United States
ATTACH;FMTTYPE=image/jpeg:https://ecotrust.org/wp-content/uploads/2025/04/PearlChurch_Service_2025.jpg
ORGANIZER;CN="Pearl Church":MAILTO:info@pearlchurch.org
END:VEVENT
BEGIN:VEVENT
DTSTART;TZID=America/Los_Angeles:20260726T090000
DTEND;TZID=America/Los_Angeles:20260726T103000
DTSTAMP:20260417T193725
CREATED:20250411T190204Z
LAST-MODIFIED:20250411T192346Z
UID:10000803-1785056400-1785061800@ecotrust.org
SUMMARY:Pearl Church | Service
DESCRIPTION:Join on Sunday mornings at 9:00am & 10:30am. \nMeet in the historic Ecotrust building in the Pearl District. Kids & Youth programs are offered at the 10:30am service.
URL:https://ecotrust.org/event/pearl-church-service/2026-07-26/
LOCATION:The Redd on Salmon Street\, 831 SE Salmon Street\, Portland\, OR\, 97214\, United States
ATTACH;FMTTYPE=image/jpeg:https://ecotrust.org/wp-content/uploads/2025/04/PearlChurch_Service_2025.jpg
ORGANIZER;CN="Pearl Church":MAILTO:info@pearlchurch.org
END:VEVENT
BEGIN:VEVENT
DTSTART;TZID=America/Los_Angeles:20260726T110000
DTEND;TZID=America/Los_Angeles:20260726T160000
DTSTAMP:20260417T193725
CREATED:20260311T204548Z
LAST-MODIFIED:20260311T204829Z
UID:10001128-1785063600-1785081600@ecotrust.org
SUMMARY:Portland Flea
DESCRIPTION:A gathering place for the creators\, curators\, and collectors. \nFIND PORTLAND FLEA THE LAST SUNDAY OF THE MONTH – APRIL – OCTOBER\n+ a very special Holiday EVENT In November \n11AM – 4PM . Rain or SHINE \nWHAT YOU’LL FIND AT THE FLEA:\nACCESSORIES | CLOTHING | VINTAGE | HOME GOODS | FOOD & DRINK
URL:https://ecotrust.org/event/portland-flea/2026-07-26/
LOCATION:The Redd on Salmon Street\, 831 SE Salmon Street\, Portland\, OR\, 97214\, United States
ATTACH;FMTTYPE=image/png:https://ecotrust.org/wp-content/uploads/2026/03/Screenshot-2026-03-11-at-11.29.04-AM-e1773253792531-1.png
END:VEVENT
BEGIN:VEVENT
DTSTART;TZID=America/Los_Angeles:20260802T090000
DTEND;TZID=America/Los_Angeles:20260802T103000
DTSTAMP:20260417T193725
CREATED:20250411T190204Z
LAST-MODIFIED:20250411T192346Z
UID:10000804-1785661200-1785666600@ecotrust.org
SUMMARY:Pearl Church | Service
DESCRIPTION:Join on Sunday mornings at 9:00am & 10:30am. \nMeet in the historic Ecotrust building in the Pearl District. Kids & Youth programs are offered at the 10:30am service.
URL:https://ecotrust.org/event/pearl-church-service/2026-08-02/
LOCATION:The Redd on Salmon Street\, 831 SE Salmon Street\, Portland\, OR\, 97214\, United States
ATTACH;FMTTYPE=image/jpeg:https://ecotrust.org/wp-content/uploads/2025/04/PearlChurch_Service_2025.jpg
ORGANIZER;CN="Pearl Church":MAILTO:info@pearlchurch.org
END:VEVENT
BEGIN:VEVENT
DTSTART;TZID=America/Los_Angeles:20260809T090000
DTEND;TZID=America/Los_Angeles:20260809T103000
DTSTAMP:20260417T193725
CREATED:20250411T190204Z
LAST-MODIFIED:20250411T192346Z
UID:10000805-1786266000-1786271400@ecotrust.org
SUMMARY:Pearl Church | Service
DESCRIPTION:Join on Sunday mornings at 9:00am & 10:30am. \nMeet in the historic Ecotrust building in the Pearl District. Kids & Youth programs are offered at the 10:30am service.
URL:https://ecotrust.org/event/pearl-church-service/2026-08-09/
LOCATION:The Redd on Salmon Street\, 831 SE Salmon Street\, Portland\, OR\, 97214\, United States
ATTACH;FMTTYPE=image/jpeg:https://ecotrust.org/wp-content/uploads/2025/04/PearlChurch_Service_2025.jpg
ORGANIZER;CN="Pearl Church":MAILTO:info@pearlchurch.org
END:VEVENT
BEGIN:VEVENT
DTSTART;TZID=America/Los_Angeles:20260816T090000
DTEND;TZID=America/Los_Angeles:20260816T103000
DTSTAMP:20260417T193725
CREATED:20250411T190204Z
LAST-MODIFIED:20250411T192346Z
UID:10000806-1786870800-1786876200@ecotrust.org
SUMMARY:Pearl Church | Service
DESCRIPTION:Join on Sunday mornings at 9:00am & 10:30am. \nMeet in the historic Ecotrust building in the Pearl District. Kids & Youth programs are offered at the 10:30am service.
URL:https://ecotrust.org/event/pearl-church-service/2026-08-16/
LOCATION:The Redd on Salmon Street\, 831 SE Salmon Street\, Portland\, OR\, 97214\, United States
ATTACH;FMTTYPE=image/jpeg:https://ecotrust.org/wp-content/uploads/2025/04/PearlChurch_Service_2025.jpg
ORGANIZER;CN="Pearl Church":MAILTO:info@pearlchurch.org
END:VEVENT
BEGIN:VEVENT
DTSTART;TZID=America/Los_Angeles:20260823T090000
DTEND;TZID=America/Los_Angeles:20260823T103000
DTSTAMP:20260417T193725
CREATED:20250411T190204Z
LAST-MODIFIED:20250411T192346Z
UID:10000807-1787475600-1787481000@ecotrust.org
SUMMARY:Pearl Church | Service
DESCRIPTION:Join on Sunday mornings at 9:00am & 10:30am. \nMeet in the historic Ecotrust building in the Pearl District. Kids & Youth programs are offered at the 10:30am service.
URL:https://ecotrust.org/event/pearl-church-service/2026-08-23/
LOCATION:The Redd on Salmon Street\, 831 SE Salmon Street\, Portland\, OR\, 97214\, United States
ATTACH;FMTTYPE=image/jpeg:https://ecotrust.org/wp-content/uploads/2025/04/PearlChurch_Service_2025.jpg
ORGANIZER;CN="Pearl Church":MAILTO:info@pearlchurch.org
END:VEVENT
BEGIN:VEVENT
DTSTART;TZID=America/Los_Angeles:20260830T090000
DTEND;TZID=America/Los_Angeles:20260830T103000
DTSTAMP:20260417T193725
CREATED:20250411T190204Z
LAST-MODIFIED:20250411T192346Z
UID:10000808-1788080400-1788085800@ecotrust.org
SUMMARY:Pearl Church | Service
DESCRIPTION:Join on Sunday mornings at 9:00am & 10:30am. \nMeet in the historic Ecotrust building in the Pearl District. Kids & Youth programs are offered at the 10:30am service.
URL:https://ecotrust.org/event/pearl-church-service/2026-08-30/
LOCATION:The Redd on Salmon Street\, 831 SE Salmon Street\, Portland\, OR\, 97214\, United States
ATTACH;FMTTYPE=image/jpeg:https://ecotrust.org/wp-content/uploads/2025/04/PearlChurch_Service_2025.jpg
ORGANIZER;CN="Pearl Church":MAILTO:info@pearlchurch.org
END:VEVENT
BEGIN:VEVENT
DTSTART;TZID=America/Los_Angeles:20260830T110000
DTEND;TZID=America/Los_Angeles:20260830T160000
DTSTAMP:20260417T193725
CREATED:20260311T204548Z
LAST-MODIFIED:20260311T204829Z
UID:10001129-1788087600-1788105600@ecotrust.org
SUMMARY:Portland Flea
DESCRIPTION:A gathering place for the creators\, curators\, and collectors. \nFIND PORTLAND FLEA THE LAST SUNDAY OF THE MONTH – APRIL – OCTOBER\n+ a very special Holiday EVENT In November \n11AM – 4PM . Rain or SHINE \nWHAT YOU’LL FIND AT THE FLEA:\nACCESSORIES | CLOTHING | VINTAGE | HOME GOODS | FOOD & DRINK
URL:https://ecotrust.org/event/portland-flea/2026-08-30/
LOCATION:The Redd on Salmon Street\, 831 SE Salmon Street\, Portland\, OR\, 97214\, United States
ATTACH;FMTTYPE=image/png:https://ecotrust.org/wp-content/uploads/2026/03/Screenshot-2026-03-11-at-11.29.04-AM-e1773253792531-1.png
END:VEVENT
BEGIN:VEVENT
DTSTART;TZID=America/Los_Angeles:20260906T090000
DTEND;TZID=America/Los_Angeles:20260906T103000
DTSTAMP:20260417T193725
CREATED:20250411T190204Z
LAST-MODIFIED:20250411T192346Z
UID:10000809-1788685200-1788690600@ecotrust.org
SUMMARY:Pearl Church | Service
DESCRIPTION:Join on Sunday mornings at 9:00am & 10:30am. \nMeet in the historic Ecotrust building in the Pearl District. Kids & Youth programs are offered at the 10:30am service.
URL:https://ecotrust.org/event/pearl-church-service/2026-09-06/
LOCATION:The Redd on Salmon Street\, 831 SE Salmon Street\, Portland\, OR\, 97214\, United States
ATTACH;FMTTYPE=image/jpeg:https://ecotrust.org/wp-content/uploads/2025/04/PearlChurch_Service_2025.jpg
ORGANIZER;CN="Pearl Church":MAILTO:info@pearlchurch.org
END:VEVENT
BEGIN:VEVENT
DTSTART;TZID=America/Los_Angeles:20260913T090000
DTEND;TZID=America/Los_Angeles:20260913T103000
DTSTAMP:20260417T193725
CREATED:20250411T190204Z
LAST-MODIFIED:20250411T192346Z
UID:10000810-1789290000-1789295400@ecotrust.org
SUMMARY:Pearl Church | Service
DESCRIPTION:Join on Sunday mornings at 9:00am & 10:30am. \nMeet in the historic Ecotrust building in the Pearl District. Kids & Youth programs are offered at the 10:30am service.
URL:https://ecotrust.org/event/pearl-church-service/2026-09-13/
LOCATION:The Redd on Salmon Street\, 831 SE Salmon Street\, Portland\, OR\, 97214\, United States
ATTACH;FMTTYPE=image/jpeg:https://ecotrust.org/wp-content/uploads/2025/04/PearlChurch_Service_2025.jpg
ORGANIZER;CN="Pearl Church":MAILTO:info@pearlchurch.org
END:VEVENT
BEGIN:VEVENT
DTSTART;TZID=America/Los_Angeles:20260920T090000
DTEND;TZID=America/Los_Angeles:20260920T103000
DTSTAMP:20260417T193725
CREATED:20250411T190204Z
LAST-MODIFIED:20250411T192346Z
UID:10000811-1789894800-1789900200@ecotrust.org
SUMMARY:Pearl Church | Service
DESCRIPTION:Join on Sunday mornings at 9:00am & 10:30am. \nMeet in the historic Ecotrust building in the Pearl District. Kids & Youth programs are offered at the 10:30am service.
URL:https://ecotrust.org/event/pearl-church-service/2026-09-20/
LOCATION:The Redd on Salmon Street\, 831 SE Salmon Street\, Portland\, OR\, 97214\, United States
ATTACH;FMTTYPE=image/jpeg:https://ecotrust.org/wp-content/uploads/2025/04/PearlChurch_Service_2025.jpg
ORGANIZER;CN="Pearl Church":MAILTO:info@pearlchurch.org
END:VEVENT
END:VCALENDAR