BEGIN:VCALENDAR
VERSION:2.0
PRODID:-//Ecotrust - ECPv6.15.15//NONSGML v1.0//EN
CALSCALE:GREGORIAN
METHOD:PUBLISH
X-ORIGINAL-URL:https://ecotrust.org
X-WR-CALDESC:Events for Ecotrust
REFRESH-INTERVAL;VALUE=DURATION:PT1H
X-Robots-Tag:noindex
X-PUBLISHED-TTL:PT1H
BEGIN:VTIMEZONE
TZID:America/Los_Angeles
BEGIN:DAYLIGHT
TZOFFSETFROM:-0800
TZOFFSETTO:-0700
TZNAME:PDT
DTSTART:20240310T100000
END:DAYLIGHT
BEGIN:STANDARD
TZOFFSETFROM:-0700
TZOFFSETTO:-0800
TZNAME:PST
DTSTART:20241103T090000
END:STANDARD
BEGIN:DAYLIGHT
TZOFFSETFROM:-0800
TZOFFSETTO:-0700
TZNAME:PDT
DTSTART:20250309T100000
END:DAYLIGHT
BEGIN:STANDARD
TZOFFSETFROM:-0700
TZOFFSETTO:-0800
TZNAME:PST
DTSTART:20251102T090000
END:STANDARD
BEGIN:DAYLIGHT
TZOFFSETFROM:-0800
TZOFFSETTO:-0700
TZNAME:PDT
DTSTART:20260308T100000
END:DAYLIGHT
BEGIN:STANDARD
TZOFFSETFROM:-0700
TZOFFSETTO:-0800
TZNAME:PST
DTSTART:20261101T090000
END:STANDARD
END:VTIMEZONE
BEGIN:VEVENT
DTSTART;TZID=America/Los_Angeles:20250924T120000
DTEND;TZID=America/Los_Angeles:20250924T133000
DTSTAMP:20260420T113940
CREATED:20250903T224242Z
LAST-MODIFIED:20250903T224354Z
UID:10001073-1758715200-1758720600@ecotrust.org
SUMMARY:Using Data to Improve Market Outcomes
DESCRIPTION:Learn how to use a DIY data tool to improve market data collection at farmers markets. \nJoin the web presentation with Denise Chin and Noah Enelow from Ecotrust’s Measurement and Evaluation team to learn how to use vendor-specific data during market season to support decision-making and inform future sales strategies. You’ll also hear from members of the Oregon Farmers Markets Association cohort who participated in the first iteration of this data tool and will share their experiences. Attendees will leave with access to the tool and have the opportunity to ask questions about using it for their own market’s purposes.
URL:https://ecotrust.org/event/using-data-to-improve-market-outcomes/
LOCATION:Zoom
ATTACH;FMTTYPE=image/jpeg:https://ecotrust.org/wp-content/uploads/2025/09/Using_Data_To_Improve_Market_Outcomes.jpg
END:VEVENT
END:VCALENDAR